BEGIN:VCALENDAR
VERSION:2.0
PRODID:-//UNIVERSITY OF TEXAS SCHOOL OF LAW//NONSGML Events Calendar v1.0//EN
X-WR-TIMEZONE:America/Chicago
BEGIN:VTIMEZONE
TZID:US/Central
X-LIC-LOCATION:America/Chicago
BEGIN:DAYLIGHT
TZOFFSETFROM:-0600
TZOFFSETTO:-0500
TZNAME:CDT
DTSTART:19700308T020000
RRULE:FREQ=YEARLY;BYMONTH=3;BYDAY=2SU
END:DAYLIGHT
BEGIN:STANDARD
TZOFFSETFROM:-0500
TZOFFSETTO:-0600
TZNAME:CST
DTSTART:19701101T020000
RRULE:FREQ=YEARLY;BYMONTH=11;BYDAY=1SU
END:STANDARD
END:VTIMEZONE
BEGIN:VEVENT
DTSTART;TZID=US/Central:20161118T120000
DTEND;VALUE=DATE-TIME;TZID=US/Central:20161118T123000

DTSTAMP:20260419T234700Z
CREATED:20161115T153000Z
LAST-MODIFIED:20161115T153000Z
UID:20161118T120000-26986@law.utexas.edu
SUMMARY:Trust &amp; Estate Planning
DESCRIPTION:<p>In this segment, our speakers explore the area of trust and estate planning. They’ll provide invaluable insight into what skills you’ll need to break into this area, what drew them to this practice area, the pros and cons, and what a typical day in their practice entails.</p>
  <p>Speakers:
  Jonathan P. (JP) Lee, Shareholder, Sojourner, Caughman &amp; Thomas, Columbia, SC
  Chasity S. Grice, Peppel, Gomes &amp; MacIntosh, P.C., Memphis, TN</p>
  <p>Moderator:
  Liz Stone, Managing Director, The Dubin Group, San Francisco, CA</p>\n\nIf you need an accommodation to participate in this event, please contact the event sponsor or the Texas Law Special Events Office at specialevents@law.utexas.edu no later than seven business days prior to the event.
X-ALT-DESC;FMTTYPE=text/html:<p>In this segment, our speakers explore the area of trust and estate planning. They’ll provide invaluable insight into what skills you’ll need to break into this area, what drew them to this practice area, the pros and cons, and what a typical day in their practice entails.</p>
  <p>Speakers:
  Jonathan P. (JP) Lee, Shareholder, Sojourner, Caughman &amp; Thomas, Columbia, SC
  Chasity S. Grice, Peppel, Gomes &amp; MacIntosh, P.C., Memphis, TN</p>
  <p>Moderator:
  Liz Stone, Managing Director, The Dubin Group, San Francisco, CA</p><p>If you need an accommodation to participate in this event, please contact the event
                                          event sponsor or the Texas Law Special Events Office at <a href="mailto:specialevents@law.utexas.edu">specialevents@law.utexas.edu</a> no later than seven business days prior to the event.</p>
CATEGORIES:Workshop / Training Program
LOCATION:TNH 3.125 - Denius Classroom
URL:http://law.utexas.edu/calendar/2016/11/18/26986/
CLASS:PUBLIC
STATUS:CONFIRMED
COMMENT:Please contact SooYeon Kim, Events Specialist, at 512-232-1151 or <a href="mailto:skim@law.utexas.edu">skim@law.utexas.edu</a>.
END:VEVENT
END:VCALENDAR