BEGIN:VCALENDAR
VERSION:2.0
PRODID:-//UNIVERSITY OF TEXAS SCHOOL OF LAW//NONSGML Events Calendar v1.0//EN
X-WR-TIMEZONE:America/Chicago
BEGIN:VTIMEZONE
TZID:US/Central
X-LIC-LOCATION:America/Chicago
BEGIN:DAYLIGHT
TZOFFSETFROM:-0600
TZOFFSETTO:-0500
TZNAME:CDT
DTSTART:19700308T020000
RRULE:FREQ=YEARLY;BYMONTH=3;BYDAY=2SU
END:DAYLIGHT
BEGIN:STANDARD
TZOFFSETFROM:-0500
TZOFFSETTO:-0600
TZNAME:CST
DTSTART:19701101T020000
RRULE:FREQ=YEARLY;BYMONTH=11;BYDAY=1SU
END:STANDARD
END:VTIMEZONE
BEGIN:VEVENT
DTSTART;TZID=US/Central:20170117T120000
DTEND;VALUE=DATE-TIME;TZID=US/Central:20170117T124500

DTSTAMP:20260420T045000Z
CREATED:20170112T181300Z
LAST-MODIFIED:20170112T181300Z
UID:20170117T120000-28225@law.utexas.edu
SUMMARY:1L Grades Are In - What's Next?
DESCRIPTION:<p>Your first semester grades are in. Now what? Dean Bangs and Brandi Welch will discuss your grades, your reaction and where to go from here. Whether you were satisfied with your performance or not, there are a few strategies all law students may attempt to better performance in the Spring. We'll also discuss how to approach professors with questions about exam answers. Pizza lunch will be served!</p>\n\nIf you need an accommodation to participate in this event, please contact the event sponsor or the Texas Law Special Events Office at specialevents@law.utexas.edu no later than seven business days prior to the event.
X-ALT-DESC;FMTTYPE=text/html:<p>Your first semester grades are in. Now what? Dean Bangs and Brandi Welch will discuss your grades, your reaction and where to go from here. Whether you were satisfied with your performance or not, there are a few strategies all law students may attempt to better performance in the Spring. We'll also discuss how to approach professors with questions about exam answers. Pizza lunch will be served!</p><p>If you need an accommodation to participate in this event, please contact the event
                                          event sponsor or the Texas Law Special Events Office at <a href="mailto:specialevents@law.utexas.edu">specialevents@law.utexas.edu</a> no later than seven business days prior to the event.</p>
CATEGORIES:Workshop / Training Program
LOCATION:TNH 2.139 - Wilson Classroom
URL:http://law.utexas.edu/calendar/2017/01/17/28225/
CLASS:PUBLIC
STATUS:CONFIRMED

END:VEVENT
END:VCALENDAR