BEGIN:VCALENDAR
VERSION:2.0
PRODID:-//UNIVERSITY OF TEXAS SCHOOL OF LAW//NONSGML Events Calendar v1.0//EN
X-WR-TIMEZONE:America/Chicago
BEGIN:VTIMEZONE
TZID:US/Central
X-LIC-LOCATION:America/Chicago
BEGIN:DAYLIGHT
TZOFFSETFROM:-0600
TZOFFSETTO:-0500
TZNAME:CDT
DTSTART:19700308T020000
RRULE:FREQ=YEARLY;BYMONTH=3;BYDAY=2SU
END:DAYLIGHT
BEGIN:STANDARD
TZOFFSETFROM:-0500
TZOFFSETTO:-0600
TZNAME:CST
DTSTART:19701101T020000
RRULE:FREQ=YEARLY;BYMONTH=11;BYDAY=1SU
END:STANDARD
END:VTIMEZONE
BEGIN:VEVENT
DTSTART;TZID=US/Central:20170118T120000
DTEND;VALUE=DATE-TIME;TZID=US/Central:20170118T130000

DTSTAMP:20260420T045000Z
CREATED:20161215T172100Z
LAST-MODIFIED:20161215T172100Z
UID:20170118T120000-27684@law.utexas.edu
SUMMARY:Akin Gump Pro Bono Scholar Info session
DESCRIPTION:<p>Please join Steven Schulman, Akin Gump Pro Bono Partner, to learn about pro bono at large law firms and Akin Gump’s 2017 Pro Bono Scholars Program; see <a href="https://www.akingump.com/en/careers/students/pro-bono/pro-bono-scholars-program-overview.html.">https://www.akingump.com/en/careers/students/pro-bono/pro-bono-scholars-program-overview.html.</a> </p>
  <p>Afterwards, Mr. Schulman will be conducting 15-minute, one-on-one Q&amp;A sessions with students in the Career Services Interview Suite from 1:30-4:00 p.m. To sign up for a slot, please email houstonrecruiting@akingump.com no later than noon on Tuesday, January 17, 2017.</p>
  <p>The Akin Gump Summer Pro Bono Scholars Program provides top first-year law students interested in law firm practice the opportunity to develop an early expertise in public interest law. The skills acquired during this program build a foundation for pro bono work and billable practice that will serve participants throughout their careers. The program spans two summers, with the Pro Bono Scholars working both at the firm and at a public interest organization during the first summer as rising 2Ls. The next summer as a rising 3L, the Pro Bono Scholars join the firm as participants in the firm’s general summer associate program. In 2017, the Pro Bono Scholars Program will be offered in our Dallas, Houston, Los Angeles, New York, and Washington, D.C. offices. For more information, including how to apply, please visit <a href="https://www.akingump.com/en/careers/students/pro-bono/pro-bono-scholars-program-overview.html.">https://www.akingump.com/en/careers/students/pro-bono/pro-bono-scholars-program-overview.html.</a> </p>
  <p>RSVP by TUESDAY, January 17, on <a href="https://law-utexas-csm.symplicity.com/students/"> Symplicity</a> by selecting the "Events" tab.</p>\n\nIf you need an accommodation to participate in this event, please contact the event sponsor or the Texas Law Special Events Office at specialevents@law.utexas.edu no later than seven business days prior to the event.
X-ALT-DESC;FMTTYPE=text/html:<p>Please join Steven Schulman, Akin Gump Pro Bono Partner, to learn about pro bono at large law firms and Akin Gump’s 2017 Pro Bono Scholars Program; see <a href="https://www.akingump.com/en/careers/students/pro-bono/pro-bono-scholars-program-overview.html.">https://www.akingump.com/en/careers/students/pro-bono/pro-bono-scholars-program-overview.html.</a> </p>
  <p>Afterwards, Mr. Schulman will be conducting 15-minute, one-on-one Q&amp;A sessions with students in the Career Services Interview Suite from 1:30-4:00 p.m. To sign up for a slot, please email houstonrecruiting@akingump.com no later than noon on Tuesday, January 17, 2017.</p>
  <p>The Akin Gump Summer Pro Bono Scholars Program provides top first-year law students interested in law firm practice the opportunity to develop an early expertise in public interest law. The skills acquired during this program build a foundation for pro bono work and billable practice that will serve participants throughout their careers. The program spans two summers, with the Pro Bono Scholars working both at the firm and at a public interest organization during the first summer as rising 2Ls. The next summer as a rising 3L, the Pro Bono Scholars join the firm as participants in the firm’s general summer associate program. In 2017, the Pro Bono Scholars Program will be offered in our Dallas, Houston, Los Angeles, New York, and Washington, D.C. offices. For more information, including how to apply, please visit <a href="https://www.akingump.com/en/careers/students/pro-bono/pro-bono-scholars-program-overview.html.">https://www.akingump.com/en/careers/students/pro-bono/pro-bono-scholars-program-overview.html.</a> </p>
  <p>RSVP by TUESDAY, January 17, on <a href="https://law-utexas-csm.symplicity.com/students/"> Symplicity</a> by selecting the "Events" tab.</p><p>If you need an accommodation to participate in this event, please contact the event
                                          event sponsor or the Texas Law Special Events Office at <a href="mailto:specialevents@law.utexas.edu">specialevents@law.utexas.edu</a> no later than seven business days prior to the event.</p>
CATEGORIES:Workshop / Training Program
LOCATION:TNH 3.125 - Denius Classroom
URL:http://law.utexas.edu/calendar/2017/01/18/27684/
CLASS:PUBLIC
STATUS:CONFIRMED
COMMENT:Please contact Deb Freeman, Communication Director, at 512-232-1156 or <a href="mailto:DFreeman@law.utexas.edu">Dfreeman@law.utexas.edu</a>.
END:VEVENT
END:VCALENDAR