BEGIN:VCALENDAR
VERSION:2.0
PRODID:-//UNIVERSITY OF TEXAS SCHOOL OF LAW//NONSGML Events Calendar v1.0//EN
X-WR-TIMEZONE:America/Chicago
BEGIN:VTIMEZONE
TZID:US/Central
X-LIC-LOCATION:America/Chicago
BEGIN:DAYLIGHT
TZOFFSETFROM:-0600
TZOFFSETTO:-0500
TZNAME:CDT
DTSTART:19700308T020000
RRULE:FREQ=YEARLY;BYMONTH=3;BYDAY=2SU
END:DAYLIGHT
BEGIN:STANDARD
TZOFFSETFROM:-0500
TZOFFSETTO:-0600
TZNAME:CST
DTSTART:19701101T020000
RRULE:FREQ=YEARLY;BYMONTH=11;BYDAY=1SU
END:STANDARD
END:VTIMEZONE
BEGIN:VEVENT
DTSTART;TZID=US/Central:20170119T180000
DTEND;VALUE=DATE-TIME;TZID=US/Central:20170119T193000

DTSTAMP:20260420T045100Z
CREATED:20160804T164800Z
LAST-MODIFIED:20160804T165500Z
UID:20170119T180000-23448@law.utexas.edu
SUMMARY:Austin Alumni Reception
DESCRIPTION:<p>Thursday, January 19, 2017, 6:00 p.m. - 7:30 p.m.
  Intercontinental Stephen F. Austin, 701 Congress Avenue, Austin TX, 78701</p>\n\nIf you need an accommodation to participate in this event, please contact the event sponsor or the Texas Law Special Events Office at specialevents@law.utexas.edu no later than seven business days prior to the event.
X-ALT-DESC;FMTTYPE=text/html:<p>Thursday, January 19, 2017, 6:00 p.m. - 7:30 p.m.
  Intercontinental Stephen F. Austin, 701 Congress Avenue, Austin TX, 78701</p><p>If you need an accommodation to participate in this event, please contact the event
                                          event sponsor or the Texas Law Special Events Office at <a href="mailto:specialevents@law.utexas.edu">specialevents@law.utexas.edu</a> no later than seven business days prior to the event.</p>
CATEGORIES:Reception

URL:http://law.utexas.edu/calendar/2017/01/19/23448/
CLASS:PUBLIC
STATUS:CONFIRMED
COMMENT:For questions, please contact the Alumni Events Office at events@law.utexas.edu
END:VEVENT
END:VCALENDAR