BEGIN:VCALENDAR
VERSION:2.0
PRODID:-//UNIVERSITY OF TEXAS SCHOOL OF LAW//NONSGML Events Calendar v1.0//EN
X-WR-TIMEZONE:America/Chicago
BEGIN:VTIMEZONE
TZID:US/Central
X-LIC-LOCATION:America/Chicago
BEGIN:DAYLIGHT
TZOFFSETFROM:-0600
TZOFFSETTO:-0500
TZNAME:CDT
DTSTART:19700308T020000
RRULE:FREQ=YEARLY;BYMONTH=3;BYDAY=2SU
END:DAYLIGHT
BEGIN:STANDARD
TZOFFSETFROM:-0500
TZOFFSETTO:-0600
TZNAME:CST
DTSTART:19701101T020000
RRULE:FREQ=YEARLY;BYMONTH=11;BYDAY=1SU
END:STANDARD
END:VTIMEZONE
BEGIN:VEVENT
DTSTART;TZID=US/Central:20170119T180000
DTEND;VALUE=DATE-TIME;TZID=US/Central:20170119T210000

DTSTAMP:20260420T073400Z
CREATED:20170115T025100Z
LAST-MODIFIED:20170115T025100Z
UID:20170119T180000-28301@law.utexas.edu
SUMMARY:The Austin LGBT Bar Advocacy Summit
DESCRIPTION:<p>Join the Austin LGBT Bar Association, UT OUTLaw, the UT American Constitution Society, Equality Texas, Austin Gay &amp; Lesbian Chamber of Commerce, and the American Civil Liberties Union for an evening of speakers and conversation to address the challenges to LGBT equality in the new political climate. The event will consist of the following panel discussions:</p>
  <p>- LGBT Equality in the New Political Environment: A Discussion on Potential Federal and State Threats to Equality</p>
  <p>- Intersectionality and Expanding Visibility: A New Imperative</p>
  <p>- Elevating LGBT Leadership: The Importance of LGBT Leadership</p>
  <p>- The Power of Participation: Tactics that Work</p>\n\nIf you need an accommodation to participate in this event, please contact the event sponsor or the Texas Law Special Events Office at specialevents@law.utexas.edu no later than seven business days prior to the event.
X-ALT-DESC;FMTTYPE=text/html:<p>Join the Austin LGBT Bar Association, UT OUTLaw, the UT American Constitution Society, Equality Texas, Austin Gay &amp; Lesbian Chamber of Commerce, and the American Civil Liberties Union for an evening of speakers and conversation to address the challenges to LGBT equality in the new political climate. The event will consist of the following panel discussions:</p>
  <p>- LGBT Equality in the New Political Environment: A Discussion on Potential Federal and State Threats to Equality</p>
  <p>- Intersectionality and Expanding Visibility: A New Imperative</p>
  <p>- Elevating LGBT Leadership: The Importance of LGBT Leadership</p>
  <p>- The Power of Participation: Tactics that Work</p><p>If you need an accommodation to participate in this event, please contact the event
                                          event sponsor or the Texas Law Special Events Office at <a href="mailto:specialevents@law.utexas.edu">specialevents@law.utexas.edu</a> no later than seven business days prior to the event.</p>
CATEGORIES:Panel Discussion / Speaker Series
LOCATION:CCJ 2.306 - Eidman Courtroom
URL:http://law.utexas.edu/calendar/2017/01/19/28301/
CLASS:PUBLIC
STATUS:CONFIRMED

END:VEVENT
END:VCALENDAR