BEGIN:VCALENDAR
VERSION:2.0
PRODID:-//UNIVERSITY OF TEXAS SCHOOL OF LAW//NONSGML Events Calendar v1.0//EN
X-WR-TIMEZONE:America/Chicago
BEGIN:VTIMEZONE
TZID:US/Central
X-LIC-LOCATION:America/Chicago
BEGIN:DAYLIGHT
TZOFFSETFROM:-0600
TZOFFSETTO:-0500
TZNAME:CDT
DTSTART:19700308T020000
RRULE:FREQ=YEARLY;BYMONTH=3;BYDAY=2SU
END:DAYLIGHT
BEGIN:STANDARD
TZOFFSETFROM:-0500
TZOFFSETTO:-0600
TZNAME:CST
DTSTART:19701101T020000
RRULE:FREQ=YEARLY;BYMONTH=11;BYDAY=1SU
END:STANDARD
END:VTIMEZONE
BEGIN:VEVENT
DTSTART;TZID=US/Central:20170123T120000
DTEND;VALUE=DATE-TIME;TZID=US/Central:20170123T130000

DTSTAMP:20260420T074800Z
CREATED:20170115T165100Z
LAST-MODIFIED:20170115T165100Z
UID:20170123T120000-28302@law.utexas.edu
SUMMARY:Public Service Career Fair Advice Panel
DESCRIPTION:<p>PILA invites any students who will be interviewing for public interest positions at the Public Service Career Fair, or at other times, to this student panel.  Panelists will discuss their experiences interviewing for summer positions and give tips and advice about landing a summer internship.  Lunch will be provided.</p>\n\nIf you need an accommodation to participate in this event, please contact the event sponsor or the Texas Law Special Events Office at specialevents@law.utexas.edu no later than seven business days prior to the event.
X-ALT-DESC;FMTTYPE=text/html:<p>PILA invites any students who will be interviewing for public interest positions at the Public Service Career Fair, or at other times, to this student panel.  Panelists will discuss their experiences interviewing for summer positions and give tips and advice about landing a summer internship.  Lunch will be provided.</p><p>If you need an accommodation to participate in this event, please contact the event
                                          event sponsor or the Texas Law Special Events Office at <a href="mailto:specialevents@law.utexas.edu">specialevents@law.utexas.edu</a> no later than seven business days prior to the event.</p>
CATEGORIES:Panel Discussion / Speaker Series
LOCATION:TNH 3.125 - Denius Classroom
URL:http://law.utexas.edu/calendar/2017/01/23/28302/
CLASS:PUBLIC
STATUS:CONFIRMED

END:VEVENT
END:VCALENDAR