BEGIN:VCALENDAR
VERSION:2.0
PRODID:-//UNIVERSITY OF TEXAS SCHOOL OF LAW//NONSGML Events Calendar v1.0//EN
X-WR-TIMEZONE:America/Chicago
BEGIN:VTIMEZONE
TZID:US/Central
X-LIC-LOCATION:America/Chicago
BEGIN:DAYLIGHT
TZOFFSETFROM:-0600
TZOFFSETTO:-0500
TZNAME:CDT
DTSTART:19700308T020000
RRULE:FREQ=YEARLY;BYMONTH=3;BYDAY=2SU
END:DAYLIGHT
BEGIN:STANDARD
TZOFFSETFROM:-0500
TZOFFSETTO:-0600
TZNAME:CST
DTSTART:19701101T020000
RRULE:FREQ=YEARLY;BYMONTH=11;BYDAY=1SU
END:STANDARD
END:VTIMEZONE
BEGIN:VEVENT
DTSTART;TZID=US/Central:20170124T120000
DTEND;VALUE=DATE-TIME;TZID=US/Central:20170124T130000

DTSTAMP:20260420T045100Z
CREATED:20160818T132300Z
LAST-MODIFIED:20170123T134000Z
UID:20170124T120000-23804@law.utexas.edu
SUMMARY:KBH Center Distinguished Lecture
DESCRIPTION:<p>KBH Center Distinguished Lecture by Senator Kevin Ramnarie, Former Energy Minister of Trinidad and Tobago</p>
  <p>ABOUT THE EVENT
  Join the KBH Center for a distinguished lecture by Senator Kevin Ramnarine, the former Energy Minister of Trinidad and Tobago. Senator Ramnarine will discuss his experiences as energy minister in Trinidad and Tobago and his perspective on energy development generally in the Caribbean. </p>
  <p>Lunch will be served.</p>\n\nIf you need an accommodation to participate in this event, please contact the event sponsor or the Texas Law Special Events Office at specialevents@law.utexas.edu no later than seven business days prior to the event.
X-ALT-DESC;FMTTYPE=text/html:<p>KBH Center Distinguished Lecture by Senator Kevin Ramnarie, Former Energy Minister of Trinidad and Tobago</p>
  <p>ABOUT THE EVENT
  Join the KBH Center for a distinguished lecture by Senator Kevin Ramnarine, the former Energy Minister of Trinidad and Tobago. Senator Ramnarine will discuss his experiences as energy minister in Trinidad and Tobago and his perspective on energy development generally in the Caribbean. </p>
  <p>Lunch will be served.</p><p>If you need an accommodation to participate in this event, please contact the event
                                          event sponsor or the Texas Law Special Events Office at <a href="mailto:specialevents@law.utexas.edu">specialevents@law.utexas.edu</a> no later than seven business days prior to the event.</p>
CATEGORIES:Panel Discussion / Speaker Series
LOCATION:TNH 2.111 - Sheffield-Massey Room
URL:http://law.utexas.edu/calendar/2017/01/24/23804/
CLASS:PUBLIC
STATUS:CONFIRMED

END:VEVENT
END:VCALENDAR