BEGIN:VCALENDAR
VERSION:2.0
PRODID:-//UNIVERSITY OF TEXAS SCHOOL OF LAW//NONSGML Events Calendar v1.0//EN
X-WR-TIMEZONE:America/Chicago
BEGIN:VTIMEZONE
TZID:US/Central
X-LIC-LOCATION:America/Chicago
BEGIN:DAYLIGHT
TZOFFSETFROM:-0600
TZOFFSETTO:-0500
TZNAME:CDT
DTSTART:19700308T020000
RRULE:FREQ=YEARLY;BYMONTH=3;BYDAY=2SU
END:DAYLIGHT
BEGIN:STANDARD
TZOFFSETFROM:-0500
TZOFFSETTO:-0600
TZNAME:CST
DTSTART:19701101T020000
RRULE:FREQ=YEARLY;BYMONTH=11;BYDAY=1SU
END:STANDARD
END:VTIMEZONE
BEGIN:VEVENT
DTSTART;TZID=US/Central:20170124T190000
DTEND;VALUE=DATE-TIME;TZID=US/Central:20170124T210000

DTSTAMP:20260420T045100Z
CREATED:20161128T152700Z
LAST-MODIFIED:20161128T152700Z
UID:20170124T190000-27344@law.utexas.edu
SUMMARY:Susman Godfrey Moot Court Competition
DESCRIPTION:<p>The Board of Advocates invites all interested 2Ls and 3Ls to participate in this year's Susman Godfrey Moot Court Competition, the second and final Moot Court competition of the 2016-2017 school year.</p>
  <p>Visit texaslawboa.com for more information.</p>
  <p>The Competition Schedule is as follows:</p>
  <p>12/29/16- Online Signups Begin, problem available
  1/10/17- Briefs Due
  1/23/17- First Round
  1/24/17-Second Round
  1/25/17-Semi-Final Round
  1/26/17-Final Round</p>
  <p>Any questions can be directed to Kristina Pekkala at kristina.pekkala@utexas.edu. Please include "Susman Godfrey" in the subject line.</p>\n\nIf you need an accommodation to participate in this event, please contact the event sponsor or the Texas Law Special Events Office at specialevents@law.utexas.edu no later than seven business days prior to the event.
X-ALT-DESC;FMTTYPE=text/html:<p>The Board of Advocates invites all interested 2Ls and 3Ls to participate in this year's Susman Godfrey Moot Court Competition, the second and final Moot Court competition of the 2016-2017 school year.</p>
  <p>Visit texaslawboa.com for more information.</p>
  <p>The Competition Schedule is as follows:</p>
  <p>12/29/16- Online Signups Begin, problem available
  1/10/17- Briefs Due
  1/23/17- First Round
  1/24/17-Second Round
  1/25/17-Semi-Final Round
  1/26/17-Final Round</p>
  <p>Any questions can be directed to Kristina Pekkala at kristina.pekkala@utexas.edu. Please include "Susman Godfrey" in the subject line.</p><p>If you need an accommodation to participate in this event, please contact the event
                                          event sponsor or the Texas Law Special Events Office at <a href="mailto:specialevents@law.utexas.edu">specialevents@law.utexas.edu</a> no later than seven business days prior to the event.</p>
CATEGORIES:Other

URL:http://law.utexas.edu/calendar/2017/01/24/27344/
CLASS:PUBLIC
STATUS:CONFIRMED

END:VEVENT
END:VCALENDAR