BEGIN:VCALENDAR
VERSION:2.0
PRODID:-//UNIVERSITY OF TEXAS SCHOOL OF LAW//NONSGML Events Calendar v1.0//EN
X-WR-TIMEZONE:America/Chicago
BEGIN:VTIMEZONE
TZID:US/Central
X-LIC-LOCATION:America/Chicago
BEGIN:DAYLIGHT
TZOFFSETFROM:-0600
TZOFFSETTO:-0500
TZNAME:CDT
DTSTART:19700308T020000
RRULE:FREQ=YEARLY;BYMONTH=3;BYDAY=2SU
END:DAYLIGHT
BEGIN:STANDARD
TZOFFSETFROM:-0500
TZOFFSETTO:-0600
TZNAME:CST
DTSTART:19701101T020000
RRULE:FREQ=YEARLY;BYMONTH=11;BYDAY=1SU
END:STANDARD
END:VTIMEZONE
BEGIN:VEVENT
DTSTART;TZID=US/Central:20170125T080000
DTEND;VALUE=DATE-TIME;TZID=US/Central:20170125T090000

DTSTAMP:20260420T045000Z
CREATED:20170117T015200Z
LAST-MODIFIED:20170117T015200Z
UID:20170125T080000-28304@law.utexas.edu
SUMMARY:Women's Bible Study with TLWCF
DESCRIPTION:<p>Please join us for breakfast, fellowship and studying God's Word! This semester, we will be reading through 1 John. </p>
  <p>Our goal is to create a safe space for women interested in learning more about Christ through studying and applying God's Word in law school and beyond. Our Bible study is a place for Christian fellowship and encouragement, and women from all Christian faith traditions and denominations are welcome!</p>\n\nIf you need an accommodation to participate in this event, please contact the event sponsor or the Texas Law Special Events Office at specialevents@law.utexas.edu no later than seven business days prior to the event.
X-ALT-DESC;FMTTYPE=text/html:<p>Please join us for breakfast, fellowship and studying God's Word! This semester, we will be reading through 1 John. </p>
  <p>Our goal is to create a safe space for women interested in learning more about Christ through studying and applying God's Word in law school and beyond. Our Bible study is a place for Christian fellowship and encouragement, and women from all Christian faith traditions and denominations are welcome!</p><p>If you need an accommodation to participate in this event, please contact the event
                                          event sponsor or the Texas Law Special Events Office at <a href="mailto:specialevents@law.utexas.edu">specialevents@law.utexas.edu</a> no later than seven business days prior to the event.</p>
CATEGORIES:Breakfast
LOCATION:TNH 3.114 - BFI Seminar Room
URL:http://law.utexas.edu/calendar/2017/01/25/28304/
CLASS:PUBLIC
STATUS:CONFIRMED

END:VEVENT
END:VCALENDAR