BEGIN:VCALENDAR
VERSION:2.0
PRODID:-//UNIVERSITY OF TEXAS SCHOOL OF LAW//NONSGML Events Calendar v1.0//EN
X-WR-TIMEZONE:America/Chicago
BEGIN:VTIMEZONE
TZID:US/Central
X-LIC-LOCATION:America/Chicago
BEGIN:DAYLIGHT
TZOFFSETFROM:-0600
TZOFFSETTO:-0500
TZNAME:CDT
DTSTART:19700308T020000
RRULE:FREQ=YEARLY;BYMONTH=3;BYDAY=2SU
END:DAYLIGHT
BEGIN:STANDARD
TZOFFSETFROM:-0500
TZOFFSETTO:-0600
TZNAME:CST
DTSTART:19701101T020000
RRULE:FREQ=YEARLY;BYMONTH=11;BYDAY=1SU
END:STANDARD
END:VTIMEZONE
BEGIN:VEVENT
DTSTART;TZID=US/Central:20170126T114500
DTEND;VALUE=DATE-TIME;TZID=US/Central:20170126T130000

DTSTAMP:20260420T045100Z
CREATED:20160831T224200Z
LAST-MODIFIED:20170118T222600Z
UID:20170126T114500-24524@law.utexas.edu
SUMMARY:PDI Law Firm Track
DESCRIPTION:<p>The Sixth Annual <a href="https://law.utexas.edu/career/texas-law-professional-development-institute/">Texas Law Professional Development Institute: Prepared For Practice</a> is taught by industry experts and practicing attorneys, covering facets of new attorney professionalism most sought after by legal employers. It is promoted widely to employers, many of whom contributed to the content of the program.</p>
  <p><a href="https://law.utexas.edu/career/texas-law-professional-development-institute/texas-law-professional-development-institute-registration/">Online registration is now open</a> through 5 p.m. on Friday, January 13, 2017.</p>
  <p>Whether you’re a 1L preparing for your first summer clerkship or the fall recruiting season, a 2L working to turn your summer clerkship or fellowship into an offer, or a graduating 3L getting a head start on your legal career, the Texas Law Professional Development Institute (PDI) will help you be a more competitive candidate and a better lawyer.</p>\n\nIf you need an accommodation to participate in this event, please contact the event sponsor or the Texas Law Special Events Office at specialevents@law.utexas.edu no later than seven business days prior to the event.
X-ALT-DESC;FMTTYPE=text/html:<p>The Sixth Annual <a href="https://law.utexas.edu/career/texas-law-professional-development-institute/">Texas Law Professional Development Institute: Prepared For Practice</a> is taught by industry experts and practicing attorneys, covering facets of new attorney professionalism most sought after by legal employers. It is promoted widely to employers, many of whom contributed to the content of the program.</p>
  <p><a href="https://law.utexas.edu/career/texas-law-professional-development-institute/texas-law-professional-development-institute-registration/">Online registration is now open</a> through 5 p.m. on Friday, January 13, 2017.</p>
  <p>Whether you’re a 1L preparing for your first summer clerkship or the fall recruiting season, a 2L working to turn your summer clerkship or fellowship into an offer, or a graduating 3L getting a head start on your legal career, the Texas Law Professional Development Institute (PDI) will help you be a more competitive candidate and a better lawyer.</p><p>If you need an accommodation to participate in this event, please contact the event
                                          event sponsor or the Texas Law Special Events Office at <a href="mailto:specialevents@law.utexas.edu">specialevents@law.utexas.edu</a> no later than seven business days prior to the event.</p>
CATEGORIES:Workshop / Training Program
LOCATION:TNH 2.114 - Francis Auditorium
URL:http://law.utexas.edu/calendar/2017/01/26/24524/
CLASS:PUBLIC
STATUS:CONFIRMED
COMMENT:Please contact Deb Freeman, Assistant Director for Communications in the CSO, at 512-232-2162 or <a href="mailto:dfreeman@law.utexas.edu">dfreeman@law.utexas.edu</a>.
END:VEVENT
END:VCALENDAR