BEGIN:VCALENDAR
VERSION:2.0
PRODID:-//UNIVERSITY OF TEXAS SCHOOL OF LAW//NONSGML Events Calendar v1.0//EN
X-WR-TIMEZONE:America/Chicago
BEGIN:VTIMEZONE
TZID:US/Central
X-LIC-LOCATION:America/Chicago
BEGIN:DAYLIGHT
TZOFFSETFROM:-0600
TZOFFSETTO:-0500
TZNAME:CDT
DTSTART:19700308T020000
RRULE:FREQ=YEARLY;BYMONTH=3;BYDAY=2SU
END:DAYLIGHT
BEGIN:STANDARD
TZOFFSETFROM:-0500
TZOFFSETTO:-0600
TZNAME:CST
DTSTART:19701101T020000
RRULE:FREQ=YEARLY;BYMONTH=11;BYDAY=1SU
END:STANDARD
END:VTIMEZONE
BEGIN:VEVENT
DTSTART;TZID=US/Central:20170126T193000
DTEND;VALUE=DATE-TIME;TZID=US/Central:20170126T210000

DTSTAMP:20260420T045100Z
CREATED:20170110T193800Z
LAST-MODIFIED:20170110T193800Z
UID:20170126T193000-28164@law.utexas.edu
SUMMARY:If/When/How Texas Law Trivia Night
DESCRIPTION:<p>Join If/When/How Texas Law for our 5th annual Sexy Sex-Ed Trivia, now at Black Star Co-op!</p>
  <p>Participating in trivia is FREE!
  We'll be raffling off prizes from great local vendors to support our programming for the upcoming year
  Raffle tickets are $5 each (or 5 for $20).</p>
  <p>Trivia questions will test what you learned about sex in health class, pop culture, and even from studying the law.</p>
  <p>Doors open at 7:30, trivia starts at 8!</p>\n\nIf you need an accommodation to participate in this event, please contact the event sponsor or the Texas Law Special Events Office at specialevents@law.utexas.edu no later than seven business days prior to the event.
X-ALT-DESC;FMTTYPE=text/html:<p>Join If/When/How Texas Law for our 5th annual Sexy Sex-Ed Trivia, now at Black Star Co-op!</p>
  <p>Participating in trivia is FREE!
  We'll be raffling off prizes from great local vendors to support our programming for the upcoming year
  Raffle tickets are $5 each (or 5 for $20).</p>
  <p>Trivia questions will test what you learned about sex in health class, pop culture, and even from studying the law.</p>
  <p>Doors open at 7:30, trivia starts at 8!</p><p>If you need an accommodation to participate in this event, please contact the event
                                          event sponsor or the Texas Law Special Events Office at <a href="mailto:specialevents@law.utexas.edu">specialevents@law.utexas.edu</a> no later than seven business days prior to the event.</p>


URL:http://law.utexas.edu/calendar/2017/01/26/28164/
CLASS:PUBLIC
STATUS:CONFIRMED
COMMENT:Email ifwhenhow.texaslaw@gmail.com
END:VEVENT
END:VCALENDAR