BEGIN:VCALENDAR
VERSION:2.0
PRODID:-//UNIVERSITY OF TEXAS SCHOOL OF LAW//NONSGML Events Calendar v1.0//EN
X-WR-TIMEZONE:America/Chicago
BEGIN:VTIMEZONE
TZID:US/Central
X-LIC-LOCATION:America/Chicago
BEGIN:DAYLIGHT
TZOFFSETFROM:-0600
TZOFFSETTO:-0500
TZNAME:CDT
DTSTART:19700308T020000
RRULE:FREQ=YEARLY;BYMONTH=3;BYDAY=2SU
END:DAYLIGHT
BEGIN:STANDARD
TZOFFSETFROM:-0500
TZOFFSETTO:-0600
TZNAME:CST
DTSTART:19701101T020000
RRULE:FREQ=YEARLY;BYMONTH=11;BYDAY=1SU
END:STANDARD
END:VTIMEZONE
BEGIN:VEVENT
DTSTART;TZID=US/Central:20170127T080000
DTEND;VALUE=DATE-TIME;TZID=US/Central:20170127T153000

DTSTAMP:20260420T045100Z
CREATED:20161101T205800Z
LAST-MODIFIED:20170126T175700Z
UID:20170127T080000-26726@law.utexas.edu
SUMMARY:Diversity Day
DESCRIPTION:<p>Schedule of Events:</p>
  <p>
  9:00 a.m. Breakfast
  Susman Godfrey Atrium,  TNH 2.100</p>
  <p>9:30 a.m. CLE with Professor Tracy McCormack '86 
  Francis Auditorium, TNH 2.114</p>
  <p>10:45 a.m. State of the Law School Address by Dean Ward Farnsworth
  Francis Auditorium, TNH 2.114</p>
  <p>11:30 a.m.  Lunch with special guest Chief Judge Carl Stewart of the United States Fifth Circuit Court of Appeals
  Susman Godfrey Atrium, TNH 2.100</p>
  <p>
  1:30 p.m.  Panel Discussion with students and alumni of Texas Law
  Francis Auditorium, TNH 2.114</p>
  <p> 2:30 p.m.  Student Organization Breakout Sessions with ALSA, CHLSA, TMLS, and OUTLaw
  Sheffield-Massey Room, TNH 2.111</p>\n\nIf you need an accommodation to participate in this event, please contact the event sponsor or the Texas Law Special Events Office at specialevents@law.utexas.edu no later than seven business days prior to the event.
X-ALT-DESC;FMTTYPE=text/html:<p>Schedule of Events:</p>
  <p>
  9:00 a.m. Breakfast
  Susman Godfrey Atrium,  TNH 2.100</p>
  <p>9:30 a.m. CLE with Professor Tracy McCormack '86 
  Francis Auditorium, TNH 2.114</p>
  <p>10:45 a.m. State of the Law School Address by Dean Ward Farnsworth
  Francis Auditorium, TNH 2.114</p>
  <p>11:30 a.m.  Lunch with special guest Chief Judge Carl Stewart of the United States Fifth Circuit Court of Appeals
  Susman Godfrey Atrium, TNH 2.100</p>
  <p>
  1:30 p.m.  Panel Discussion with students and alumni of Texas Law
  Francis Auditorium, TNH 2.114</p>
  <p> 2:30 p.m.  Student Organization Breakout Sessions with ALSA, CHLSA, TMLS, and OUTLaw
  Sheffield-Massey Room, TNH 2.111</p><p>If you need an accommodation to participate in this event, please contact the event
                                          event sponsor or the Texas Law Special Events Office at <a href="mailto:specialevents@law.utexas.edu">specialevents@law.utexas.edu</a> no later than seven business days prior to the event.</p>
CATEGORIES:Panel Discussion / Speaker Series
LOCATION:TNH 2.100 - Susman Godfrey Atrium
URL:http://law.utexas.edu/calendar/2017/01/27/26726/
CLASS:PUBLIC
STATUS:CONFIRMED

END:VEVENT
END:VCALENDAR