BEGIN:VCALENDAR
VERSION:2.0
PRODID:-//UNIVERSITY OF TEXAS SCHOOL OF LAW//NONSGML Events Calendar v1.0//EN
X-WR-TIMEZONE:America/Chicago
BEGIN:VTIMEZONE
TZID:US/Central
X-LIC-LOCATION:America/Chicago
BEGIN:DAYLIGHT
TZOFFSETFROM:-0600
TZOFFSETTO:-0500
TZNAME:CDT
DTSTART:19700308T020000
RRULE:FREQ=YEARLY;BYMONTH=3;BYDAY=2SU
END:DAYLIGHT
BEGIN:STANDARD
TZOFFSETFROM:-0500
TZOFFSETTO:-0600
TZNAME:CST
DTSTART:19701101T020000
RRULE:FREQ=YEARLY;BYMONTH=11;BYDAY=1SU
END:STANDARD
END:VTIMEZONE
BEGIN:VEVENT
DTSTART;TZID=US/Central:20170127T083000
DTEND;VALUE=DATE-TIME;TZID=US/Central:20170127T134500

DTSTAMP:20260420T045100Z
CREATED:20170111T203800Z
LAST-MODIFIED:20170112T201300Z
UID:20170127T083000-28184@law.utexas.edu
SUMMARY:TJCLCR 2017 Conference
DESCRIPTION:<p>The Texas Journal on Civil Liberties and Civil Rights 2017 conference is co-sponsored with the American Journal on Criminal Law and the Texas Fair Defense Project. This conference examines the unique problems faced by misdemeanor defendants and the pending reforms in this area of criminal law. The conference consists of 3 panels.</p>
  <p>This conference has been approved for Minimum Continuing Legal Education credit by the State Bar of Texas Committee on MCLE in the amount of 3.75 credit hours. Complimentary breakfast and lunch will be provided.
  </p>\n\nIf you need an accommodation to participate in this event, please contact the event sponsor or the Texas Law Special Events Office at specialevents@law.utexas.edu no later than seven business days prior to the event.
X-ALT-DESC;FMTTYPE=text/html:<p>The Texas Journal on Civil Liberties and Civil Rights 2017 conference is co-sponsored with the American Journal on Criminal Law and the Texas Fair Defense Project. This conference examines the unique problems faced by misdemeanor defendants and the pending reforms in this area of criminal law. The conference consists of 3 panels.</p>
  <p>This conference has been approved for Minimum Continuing Legal Education credit by the State Bar of Texas Committee on MCLE in the amount of 3.75 credit hours. Complimentary breakfast and lunch will be provided.
  </p><p>If you need an accommodation to participate in this event, please contact the event
                                          event sponsor or the Texas Law Special Events Office at <a href="mailto:specialevents@law.utexas.edu">specialevents@law.utexas.edu</a> no later than seven business days prior to the event.</p>
CATEGORIES:Panel Discussion / Speaker Series
LOCATION:CCJ 2.306 - Eidman Courtroom
URL:http://law.utexas.edu/calendar/2017/01/27/28184/
CLASS:PUBLIC
STATUS:CONFIRMED
COMMENT:Email Callie Crispin at tjclcrconference@gmail.com
END:VEVENT
END:VCALENDAR