BEGIN:VCALENDAR
VERSION:2.0
PRODID:-//UNIVERSITY OF TEXAS SCHOOL OF LAW//NONSGML Events Calendar v1.0//EN
X-WR-TIMEZONE:America/Chicago
BEGIN:VTIMEZONE
TZID:US/Central
X-LIC-LOCATION:America/Chicago
BEGIN:DAYLIGHT
TZOFFSETFROM:-0600
TZOFFSETTO:-0500
TZNAME:CDT
DTSTART:19700308T020000
RRULE:FREQ=YEARLY;BYMONTH=3;BYDAY=2SU
END:DAYLIGHT
BEGIN:STANDARD
TZOFFSETFROM:-0500
TZOFFSETTO:-0600
TZNAME:CST
DTSTART:19701101T020000
RRULE:FREQ=YEARLY;BYMONTH=11;BYDAY=1SU
END:STANDARD
END:VTIMEZONE
BEGIN:VEVENT
DTSTART;TZID=US/Central:20170131T120000
DTEND;VALUE=DATE-TIME;TZID=US/Central:20170131T130000

DTSTAMP:20260420T045100Z
CREATED:20161206T210000Z
LAST-MODIFIED:20170113T195900Z
UID:20170131T120000-27525@law.utexas.edu
SUMMARY:Lunch Talk: Civil Rights Clinic Report
DESCRIPTION:<p>Join us for a lunchtime discussion on the Texas Law Civil Rights Clinic’s new report Preventable Tragedies: How to Reduce Mental Health-Related Deaths in Texas Jails. The Report tells the stories of ten tragic and 
  preventable deaths in Texas jails and offers 
  recommendations to improve diversion and treatment of persons with mental illness and related health needs.</p>
  <p>Panelists: 
  Diana Claitor, Executive Director, Texas Jail Project
  Amanda Gnaedinger, Legal Fellow, Texas Criminal Justice Coalition, Report Co-Author
  Alexander Stamm, Texas Law (‘17), Report Co-Author</p>
  <p>Moderator:
  Ranjana Natarajan, Director, Civil Rights Clinic</p>
  <p>Co-Sponsors:       
  UT Opportunity Forum
  Texas Law Civil Rights Clinic</p>
  <p>The event is free and open to the public, and lunch is provided. 
  Registration is required. To register, visit <a href="http://bit.ly/2iFHqvf">http://bit.ly/2iFHqvf</a>
  </p>\n\nIf you need an accommodation to participate in this event, please contact the event sponsor or the Texas Law Special Events Office at specialevents@law.utexas.edu no later than seven business days prior to the event.
X-ALT-DESC;FMTTYPE=text/html:<p>Join us for a lunchtime discussion on the Texas Law Civil Rights Clinic’s new report Preventable Tragedies: How to Reduce Mental Health-Related Deaths in Texas Jails. The Report tells the stories of ten tragic and 
  preventable deaths in Texas jails and offers 
  recommendations to improve diversion and treatment of persons with mental illness and related health needs.</p>
  <p>Panelists: 
  Diana Claitor, Executive Director, Texas Jail Project
  Amanda Gnaedinger, Legal Fellow, Texas Criminal Justice Coalition, Report Co-Author
  Alexander Stamm, Texas Law (‘17), Report Co-Author</p>
  <p>Moderator:
  Ranjana Natarajan, Director, Civil Rights Clinic</p>
  <p>Co-Sponsors:       
  UT Opportunity Forum
  Texas Law Civil Rights Clinic</p>
  <p>The event is free and open to the public, and lunch is provided. 
  Registration is required. To register, visit <a href="http://bit.ly/2iFHqvf">http://bit.ly/2iFHqvf</a>
  </p><p>If you need an accommodation to participate in this event, please contact the event
                                          event sponsor or the Texas Law Special Events Office at <a href="mailto:specialevents@law.utexas.edu">specialevents@law.utexas.edu</a> no later than seven business days prior to the event.</p>
CATEGORIES:Panel Discussion / Speaker Series
LOCATION:TNH 2.139 - Wilson Classroom
URL:http://law.utexas.edu/calendar/2017/01/31/27525/
CLASS:PUBLIC
STATUS:CONFIRMED

END:VEVENT
END:VCALENDAR