BEGIN:VCALENDAR
VERSION:2.0
PRODID:-//UNIVERSITY OF TEXAS SCHOOL OF LAW//NONSGML Events Calendar v1.0//EN
X-WR-TIMEZONE:America/Chicago
BEGIN:VTIMEZONE
TZID:US/Central
X-LIC-LOCATION:America/Chicago
BEGIN:DAYLIGHT
TZOFFSETFROM:-0600
TZOFFSETTO:-0500
TZNAME:CDT
DTSTART:19700308T020000
RRULE:FREQ=YEARLY;BYMONTH=3;BYDAY=2SU
END:DAYLIGHT
BEGIN:STANDARD
TZOFFSETFROM:-0500
TZOFFSETTO:-0600
TZNAME:CST
DTSTART:19701101T020000
RRULE:FREQ=YEARLY;BYMONTH=11;BYDAY=1SU
END:STANDARD
END:VTIMEZONE
BEGIN:VEVENT
DTSTART;TZID=US/Central:20170131T114500
DTEND;VALUE=DATE-TIME;TZID=US/Central:20170131T124500

DTSTAMP:20260420T045100Z
CREATED:20170102T162000Z
LAST-MODIFIED:20170131T151900Z
UID:20170131T114500-27945@law.utexas.edu
SUMMARY:A Conversation With Bruce Broillet
DESCRIPTION:<p>****The location for this event has changed from Jeffers to TNH 2.138******</p>
  <p><a href="http://www.greene-broillet.com/Attorneys/Bruce-A-Broillet.shtml">Bruce Broillet</a>, ’74, a partner in Greene Broillet &amp; Wheeler, L.L.P. (Santa Monica, CA) and former president of the Texas Law Alumni Association, will discuss his career path and offer practical advice for students interested in the types of litigation not practiced in large firms. Mr. Broillet is a nationally recognized trial lawyer who represents plaintiffs in complex business, products liability, personal injury, and wrongful death litigation. He successfully represented Erin Andrews in her case against Nashville Marriott, winning a verdict of $55 million.</p>
  <p>Lunch will be served. RSVP by MONDAY, January 30, on <a href="https://law-utexas-csm.symplicity.com/students/">Symplicity</a> by selecting the “Events” tab.</p>
  <p>Presented by The Review of Litigation and co-sponsored by the Career Services Office.</p>\n\nIf you need an accommodation to participate in this event, please contact the event sponsor or the Texas Law Special Events Office at specialevents@law.utexas.edu no later than seven business days prior to the event.
X-ALT-DESC;FMTTYPE=text/html:<p>****The location for this event has changed from Jeffers to TNH 2.138******</p>
  <p><a href="http://www.greene-broillet.com/Attorneys/Bruce-A-Broillet.shtml">Bruce Broillet</a>, ’74, a partner in Greene Broillet &amp; Wheeler, L.L.P. (Santa Monica, CA) and former president of the Texas Law Alumni Association, will discuss his career path and offer practical advice for students interested in the types of litigation not practiced in large firms. Mr. Broillet is a nationally recognized trial lawyer who represents plaintiffs in complex business, products liability, personal injury, and wrongful death litigation. He successfully represented Erin Andrews in her case against Nashville Marriott, winning a verdict of $55 million.</p>
  <p>Lunch will be served. RSVP by MONDAY, January 30, on <a href="https://law-utexas-csm.symplicity.com/students/">Symplicity</a> by selecting the “Events” tab.</p>
  <p>Presented by The Review of Litigation and co-sponsored by the Career Services Office.</p><p>If you need an accommodation to participate in this event, please contact the event
                                          event sponsor or the Texas Law Special Events Office at <a href="mailto:specialevents@law.utexas.edu">specialevents@law.utexas.edu</a> no later than seven business days prior to the event.</p>
CATEGORIES:Panel Discussion / Speaker Series
LOCATION:TNH 3.140 - Jeffers Courtroom
URL:http://law.utexas.edu/calendar/2017/01/31/27945/
CLASS:PUBLIC
STATUS:CONFIRMED
COMMENT:Please contact Simone Leavenworth, Career Counselor, at 512-232-1157 or <a href="mailto:sleavenworth@law.utexas.edu">sleavenworth@law.utexas.edu</a>.
END:VEVENT
END:VCALENDAR