BEGIN:VCALENDAR
VERSION:2.0
PRODID:-//UNIVERSITY OF TEXAS SCHOOL OF LAW//NONSGML Events Calendar v1.0//EN
X-WR-TIMEZONE:America/Chicago
BEGIN:VTIMEZONE
TZID:US/Central
X-LIC-LOCATION:America/Chicago
BEGIN:DAYLIGHT
TZOFFSETFROM:-0600
TZOFFSETTO:-0500
TZNAME:CDT
DTSTART:19700308T020000
RRULE:FREQ=YEARLY;BYMONTH=3;BYDAY=2SU
END:DAYLIGHT
BEGIN:STANDARD
TZOFFSETFROM:-0500
TZOFFSETTO:-0600
TZNAME:CST
DTSTART:19701101T020000
RRULE:FREQ=YEARLY;BYMONTH=11;BYDAY=1SU
END:STANDARD
END:VTIMEZONE
BEGIN:VEVENT
DTSTART;TZID=US/Central:20170131T154500
DTEND;VALUE=DATE-TIME;TZID=US/Central:20170131T174500

DTSTAMP:20260420T045100Z
CREATED:20170123T174200Z
LAST-MODIFIED:20170123T174200Z
UID:20170131T154500-28444@law.utexas.edu
SUMMARY:What's Advocacy? Why Advocacy? 1L Panel
DESCRIPTION:<p>What’s Advocacy? Why Advocacy?  Lawyers mistakenly believe that advocacy is a skill only litigators need, but nothing could be further from the truth. No matter what type of law you plan to practice,  honing your advocacy skills can’t hurt.  As a matter of fact, it can only help.  Advocacy skills are not only necessary for being successful in a courtroom.  Everyone needs to know how to be persuasive and how to present themselves in a positive light.  Getting hired, recruiting clients, working successfully with other attorneys, all made easier when you take the time to become a better advocate. </p>
  <p>Panelists and small group facilitators will include judges, firm hiring partners, faculty, recent graduates, etc.</p>
  <p>All 1Ls are encouraged to attend no matter what type of law you plan to practice upon graduation.</p>\n\nIf you need an accommodation to participate in this event, please contact the event sponsor or the Texas Law Special Events Office at specialevents@law.utexas.edu no later than seven business days prior to the event.
X-ALT-DESC;FMTTYPE=text/html:<p>What’s Advocacy? Why Advocacy?  Lawyers mistakenly believe that advocacy is a skill only litigators need, but nothing could be further from the truth. No matter what type of law you plan to practice,  honing your advocacy skills can’t hurt.  As a matter of fact, it can only help.  Advocacy skills are not only necessary for being successful in a courtroom.  Everyone needs to know how to be persuasive and how to present themselves in a positive light.  Getting hired, recruiting clients, working successfully with other attorneys, all made easier when you take the time to become a better advocate. </p>
  <p>Panelists and small group facilitators will include judges, firm hiring partners, faculty, recent graduates, etc.</p>
  <p>All 1Ls are encouraged to attend no matter what type of law you plan to practice upon graduation.</p><p>If you need an accommodation to participate in this event, please contact the event
                                          event sponsor or the Texas Law Special Events Office at <a href="mailto:specialevents@law.utexas.edu">specialevents@law.utexas.edu</a> no later than seven business days prior to the event.</p>
CATEGORIES:Panel Discussion / Speaker Series
LOCATION:TNH 2.111 - Sheffield-Massey Room
URL:http://law.utexas.edu/calendar/2017/01/31/28444/
CLASS:PUBLIC
STATUS:CONFIRMED

END:VEVENT
END:VCALENDAR