BEGIN:VCALENDAR
VERSION:2.0
PRODID:-//UNIVERSITY OF TEXAS SCHOOL OF LAW//NONSGML Events Calendar v1.0//EN
X-WR-TIMEZONE:America/Chicago
BEGIN:VTIMEZONE
TZID:US/Central
X-LIC-LOCATION:America/Chicago
BEGIN:DAYLIGHT
TZOFFSETFROM:-0600
TZOFFSETTO:-0500
TZNAME:CDT
DTSTART:19700308T020000
RRULE:FREQ=YEARLY;BYMONTH=3;BYDAY=2SU
END:DAYLIGHT
BEGIN:STANDARD
TZOFFSETFROM:-0500
TZOFFSETTO:-0600
TZNAME:CST
DTSTART:19701101T020000
RRULE:FREQ=YEARLY;BYMONTH=11;BYDAY=1SU
END:STANDARD
END:VTIMEZONE
BEGIN:VEVENT
DTSTART;TZID=US/Central:20170302T114500
DTEND;VALUE=DATE-TIME;TZID=US/Central:20170302T130000

DTSTAMP:20260420T115500Z
CREATED:20161122T211400Z
LAST-MODIFIED:20161122T211400Z
UID:20170302T114500-27305@law.utexas.edu
SUMMARY:Board of Advocates Presents: Careers in
DESCRIPTION:<p>For those students interested in Civil Litigation, the Board of Advocates invites you to join us for a speaker panel with successful civil litigation practitioners who will discuss the value of an education in advocacy, and practical tips for pursuing their career choice. </p>
  <p>Panelists to be announced.</p>
  <p>Lunch will be served.</p>\n\nIf you need an accommodation to participate in this event, please contact the event sponsor or the Texas Law Special Events Office at specialevents@law.utexas.edu no later than seven business days prior to the event.
X-ALT-DESC;FMTTYPE=text/html:<p>For those students interested in Civil Litigation, the Board of Advocates invites you to join us for a speaker panel with successful civil litigation practitioners who will discuss the value of an education in advocacy, and practical tips for pursuing their career choice. </p>
  <p>Panelists to be announced.</p>
  <p>Lunch will be served.</p><p>If you need an accommodation to participate in this event, please contact the event
                                          event sponsor or the Texas Law Special Events Office at <a href="mailto:specialevents@law.utexas.edu">specialevents@law.utexas.edu</a> no later than seven business days prior to the event.</p>
CATEGORIES:Panel Discussion / Speaker Series
LOCATION:TNH 2.140 - Wright Classroom
URL:http://law.utexas.edu/calendar/2017/03/02/27305/
CLASS:PUBLIC
STATUS:CONFIRMED
COMMENT:boa.utlaw@gmail.com
END:VEVENT
END:VCALENDAR