BEGIN:VCALENDAR
VERSION:2.0
PRODID:-//UNIVERSITY OF TEXAS SCHOOL OF LAW//NONSGML Events Calendar v1.0//EN
X-WR-TIMEZONE:America/Chicago
BEGIN:VTIMEZONE
TZID:US/Central
X-LIC-LOCATION:America/Chicago
BEGIN:DAYLIGHT
TZOFFSETFROM:-0600
TZOFFSETTO:-0500
TZNAME:CDT
DTSTART:19700308T020000
RRULE:FREQ=YEARLY;BYMONTH=3;BYDAY=2SU
END:DAYLIGHT
BEGIN:STANDARD
TZOFFSETFROM:-0500
TZOFFSETTO:-0600
TZNAME:CST
DTSTART:19701101T020000
RRULE:FREQ=YEARLY;BYMONTH=11;BYDAY=1SU
END:STANDARD
END:VTIMEZONE
BEGIN:VEVENT
DTSTART;TZID=US/Central:20170302T090000
DTEND;VALUE=DATE-TIME;TZID=US/Central:20170302T123000

DTSTAMP:20260420T160100Z
CREATED:20161201T163300Z
LAST-MODIFIED:20170227T153400Z
UID:20170302T090000-27484@law.utexas.edu
SUMMARY:State Bar of Texas International Law
DESCRIPTION:<p>The Fourth Annual “Nuts &amp; Bolts of International Law” Seminar </p>
  <p>Title: Current Issues In International Practice:  Energy Transactions; Human Rights</p>
  <p> 
  MCLE 3.00 Hours including 1.5 Ethics Hour </p>
  <p>DATE: Thursday, March 2, 2017</p>
  <p>
  LOCATION: The University of Texas School of Law
  727 E Dean Keeton St - Austin, TX 78705; TNH 3.140 (Jeffers Courtroom) </p>
  <p> 8:30 – 9:00 a.m.	Registration and coffee </p>
  <p>9:00 – 9:15 a.m.	Welcome and Introduction  </p>
   <p>oKristen Geyer, Culhane Meadows PLLC </p>
  <p>
   9:15 – 10:45 a.m.	A Case Study of Asian Investment in Energy (Natural Gas and Power) 
   The speakers will provide a review of international investment and development of energy projects, using a case study to highlight key legal issues in the development and structuring of projects, regulatory considerations and market issues.</p>
  <p>oLilly Teng, Senior Partner, Orchid Energy Group </p>
  <p>oChristi Nicolay, Division Director, Legal Risk Management, Energy Markets Division, Macquarie Energy LLC</p> 
  <p> 10:45 – 11:00 a.m.	Break</p>
  <p>11:00 – 12:30 p.m.	Panel:  How Human Rights Issues Impact All International Practices</p>
  <p>This panel will discuss current international human rights issues and the important impacts of these issues on all aspects of today's international law practice.  Topics will include an overview of current international human rights standards, how companies and lawyers can navigate international human rights issues relating to employees and indigenous peoples, an outlook on human rights in the current international immigration environment, and how dispute resolution mechanisms are used to address international human rights issues.  The panel will include an introduction to the Bernard and Audre Rapoport Center for Human Rights and Justice at Texas Law.</p>
  <p>o	Thomas Wilson, Partner, Vinson &amp; Elkins (Moderator) </p>
  <p>o	Professor Ariel E. Dulitzky, The University of Texas School of Law, Human Rights Clinic (Director)</p>
  <p>o	Kate Lincoln-Goldfinch, Lincoln-Goldfinch Law</p>
  <p>o	Eric J. Cassidy, Berg &amp; Androphy</p>
  <p>12:45 – 1:45 p.m.	Student Outreach Program – Careers in International Law (TNH 3.142)</p>
  <p>REGISTRATION </p>
  <p>
  $30 for SBOT-ILS members; $65 for non-members (includes enrollment in SBOT-ILS section); Free to law students.</p> <p> 
  Register Here: <a href="http://ilstexas.org">http://ilstexas.org</a>
  Sponsored by: </p> 
  <p> State Bar of Texas International Law Section</p>
  <p> University of Texas School of Law</p>
  <p> The Rapoport Center for Human Rights and Justice
  </p>\n\nIf you need an accommodation to participate in this event, please contact the event sponsor or the Texas Law Special Events Office at specialevents@law.utexas.edu no later than seven business days prior to the event.
X-ALT-DESC;FMTTYPE=text/html:<p>The Fourth Annual “Nuts &amp; Bolts of International Law” Seminar </p>
  <p>Title: Current Issues In International Practice:  Energy Transactions; Human Rights</p>
  <p> 
  MCLE 3.00 Hours including 1.5 Ethics Hour </p>
  <p>DATE: Thursday, March 2, 2017</p>
  <p>
  LOCATION: The University of Texas School of Law
  727 E Dean Keeton St - Austin, TX 78705; TNH 3.140 (Jeffers Courtroom) </p>
  <p> 8:30 – 9:00 a.m.	Registration and coffee </p>
  <p>9:00 – 9:15 a.m.	Welcome and Introduction  </p>
   <p>oKristen Geyer, Culhane Meadows PLLC </p>
  <p>
   9:15 – 10:45 a.m.	A Case Study of Asian Investment in Energy (Natural Gas and Power) 
   The speakers will provide a review of international investment and development of energy projects, using a case study to highlight key legal issues in the development and structuring of projects, regulatory considerations and market issues.</p>
  <p>oLilly Teng, Senior Partner, Orchid Energy Group </p>
  <p>oChristi Nicolay, Division Director, Legal Risk Management, Energy Markets Division, Macquarie Energy LLC</p> 
  <p> 10:45 – 11:00 a.m.	Break</p>
  <p>11:00 – 12:30 p.m.	Panel:  How Human Rights Issues Impact All International Practices</p>
  <p>This panel will discuss current international human rights issues and the important impacts of these issues on all aspects of today's international law practice.  Topics will include an overview of current international human rights standards, how companies and lawyers can navigate international human rights issues relating to employees and indigenous peoples, an outlook on human rights in the current international immigration environment, and how dispute resolution mechanisms are used to address international human rights issues.  The panel will include an introduction to the Bernard and Audre Rapoport Center for Human Rights and Justice at Texas Law.</p>
  <p>o	Thomas Wilson, Partner, Vinson &amp; Elkins (Moderator) </p>
  <p>o	Professor Ariel E. Dulitzky, The University of Texas School of Law, Human Rights Clinic (Director)</p>
  <p>o	Kate Lincoln-Goldfinch, Lincoln-Goldfinch Law</p>
  <p>o	Eric J. Cassidy, Berg &amp; Androphy</p>
  <p>12:45 – 1:45 p.m.	Student Outreach Program – Careers in International Law (TNH 3.142)</p>
  <p>REGISTRATION </p>
  <p>
  $30 for SBOT-ILS members; $65 for non-members (includes enrollment in SBOT-ILS section); Free to law students.</p> <p> 
  Register Here: <a href="http://ilstexas.org">http://ilstexas.org</a>
  Sponsored by: </p> 
  <p> State Bar of Texas International Law Section</p>
  <p> University of Texas School of Law</p>
  <p> The Rapoport Center for Human Rights and Justice
  </p><p>If you need an accommodation to participate in this event, please contact the event
                                          event sponsor or the Texas Law Special Events Office at <a href="mailto:specialevents@law.utexas.edu">specialevents@law.utexas.edu</a> no later than seven business days prior to the event.</p>
CATEGORIES:Workshop / Training Program
LOCATION:TNH 3.140 - Jeffers Courtroom
URL:http://law.utexas.edu/calendar/2017/03/02/27484/
CLASS:PUBLIC
STATUS:CONFIRMED
COMMENT:Please contact our Career Counselor, Natalie Aitken at <a href="mailto:naitken@law.utexas.edu">naitken@law.utexas.edu</a>, or call 512-232-1154.
END:VEVENT
END:VCALENDAR