BEGIN:VCALENDAR
VERSION:2.0
PRODID:-//UNIVERSITY OF TEXAS SCHOOL OF LAW//NONSGML Events Calendar v1.0//EN
X-WR-TIMEZONE:America/Chicago
BEGIN:VTIMEZONE
TZID:US/Central
X-LIC-LOCATION:America/Chicago
BEGIN:DAYLIGHT
TZOFFSETFROM:-0600
TZOFFSETTO:-0500
TZNAME:CDT
DTSTART:19700308T020000
RRULE:FREQ=YEARLY;BYMONTH=3;BYDAY=2SU
END:DAYLIGHT
BEGIN:STANDARD
TZOFFSETFROM:-0500
TZOFFSETTO:-0600
TZNAME:CST
DTSTART:19701101T020000
RRULE:FREQ=YEARLY;BYMONTH=11;BYDAY=1SU
END:STANDARD
END:VTIMEZONE
BEGIN:VEVENT
DTSTART;TZID=US/Central:20170302T124500
DTEND;VALUE=DATE-TIME;TZID=US/Central:20170302T134500

DTSTAMP:20260422T144600Z
CREATED:20161201T164000Z
LAST-MODIFIED:20170228T200200Z
UID:20170302T124500-27485@law.utexas.edu
SUMMARY:Careers in International Law
DESCRIPTION:<p>Student Outreach Lunch  -  Careers in International Law </p>
   <p>Sponsored by:  </p>
   <p>State Bar of Texas International Law Section &amp; University of Texas School of Law</p>
  <p>
  DATE: Thursday, March 2, 2017 </p>
  <p>Time: 12:45 pm – 1:45pm </p>
  <p>LOCATION: TNH 3.142 </p>
  <p>A panel of international law practitioners based in Texas will answer student questions about their current practice and how to start or develop a career in international law.  Speakers include experts in Immigration, Litigation, Energy Transactions, Labor and Employment and International Financial Markets.</p>
  <p>Featured Speakers </p>
  <p>Eric J. Cassidy, Berg &amp; Androphy </p>
   <p>
  Eric Cassidy is a University of Texas Law School graduate who practices as a trial lawyer in Houston, advocating for clients in high stakes litigation.  Eric’s expertise includes commercial litigation, international arbitration, financial and regulatory investigations and compliance, and white collar criminal defense.  </p>
   <p>Kate Lincoln-Goldfinch, Lincoln-Goldfinch Law </p>
   <p>Kate Lincoln-Goldfinch is a University of Texas Law School graduate who practices as an immigration lawyer in Austin, focusing on family-based immigration, deportation defense and humanitarian cases.  Kate’s dedication to immigration work started in the Immigration Clinic at UT; she is active in pro-bono and non-profit work, and is on the board of the Travis County Women Lawyers’ Association and the Austin Bar Association’s Solo and Small Firm Section.  Kate has won numerous awards and recognition for her work on behalf of immigrants and their families. </p>
   
  <p>Lilly Teng, Senior Partner, Orchid Energy Group</p>
  <p>Lilly Teng has over 34 years of experience in the USA and international energy industry, as a lawyer and commercial advisor covering the upstream (oil &amp; gas), midstream (gas pipelines, LNG, and power), and downstream (petrochemical) for Asian and American clients. Prior to co-founding Orchid Energy, she held positions in gas marketing and transportation, project and business development, internal counsel, and private practice (Sonat, Union Texas Petroleum, Enron, Texaco, Chevron, Suez).</p>
  <p>Thomas Wilson, Partner, Vinson &amp; Elkins  </p>
  <p>Tom Wilson has more than 30 years of experience in labor and employment law, advising US based and international clients on matters related to managing a global workforce in US, Europe, Africa, South America and Asia (including China).  Tom speaks regularly on international human rights and is the Chair of the International Human Rights Committee of the State Bar of Texas and Secretary of the Executive Counsel of the International Section. </p>
  <p>Kristen N. Geyer, Culhane Meadows (Moderator) </p>
  <p>
  Kristen Geyer represents sophisticated international banking, custody and technology clients in the US, Europe and Asia.  After more than 30 years practicing in New York, Washington, London and Brussels, she maintains a global practice while working in Austin.</p>
  <p> RSVP by Wednesday, March 1, on <a href="https://law-utexas-csm.symplicity.com/students/"> Symplicity</a> by selecting the "Events" tab.</p>\n\nIf you need an accommodation to participate in this event, please contact the event sponsor or the Texas Law Special Events Office at specialevents@law.utexas.edu no later than seven business days prior to the event.
X-ALT-DESC;FMTTYPE=text/html:<p>Student Outreach Lunch  -  Careers in International Law </p>
   <p>Sponsored by:  </p>
   <p>State Bar of Texas International Law Section &amp; University of Texas School of Law</p>
  <p>
  DATE: Thursday, March 2, 2017 </p>
  <p>Time: 12:45 pm – 1:45pm </p>
  <p>LOCATION: TNH 3.142 </p>
  <p>A panel of international law practitioners based in Texas will answer student questions about their current practice and how to start or develop a career in international law.  Speakers include experts in Immigration, Litigation, Energy Transactions, Labor and Employment and International Financial Markets.</p>
  <p>Featured Speakers </p>
  <p>Eric J. Cassidy, Berg &amp; Androphy </p>
   <p>
  Eric Cassidy is a University of Texas Law School graduate who practices as a trial lawyer in Houston, advocating for clients in high stakes litigation.  Eric’s expertise includes commercial litigation, international arbitration, financial and regulatory investigations and compliance, and white collar criminal defense.  </p>
   <p>Kate Lincoln-Goldfinch, Lincoln-Goldfinch Law </p>
   <p>Kate Lincoln-Goldfinch is a University of Texas Law School graduate who practices as an immigration lawyer in Austin, focusing on family-based immigration, deportation defense and humanitarian cases.  Kate’s dedication to immigration work started in the Immigration Clinic at UT; she is active in pro-bono and non-profit work, and is on the board of the Travis County Women Lawyers’ Association and the Austin Bar Association’s Solo and Small Firm Section.  Kate has won numerous awards and recognition for her work on behalf of immigrants and their families. </p>
   
  <p>Lilly Teng, Senior Partner, Orchid Energy Group</p>
  <p>Lilly Teng has over 34 years of experience in the USA and international energy industry, as a lawyer and commercial advisor covering the upstream (oil &amp; gas), midstream (gas pipelines, LNG, and power), and downstream (petrochemical) for Asian and American clients. Prior to co-founding Orchid Energy, she held positions in gas marketing and transportation, project and business development, internal counsel, and private practice (Sonat, Union Texas Petroleum, Enron, Texaco, Chevron, Suez).</p>
  <p>Thomas Wilson, Partner, Vinson &amp; Elkins  </p>
  <p>Tom Wilson has more than 30 years of experience in labor and employment law, advising US based and international clients on matters related to managing a global workforce in US, Europe, Africa, South America and Asia (including China).  Tom speaks regularly on international human rights and is the Chair of the International Human Rights Committee of the State Bar of Texas and Secretary of the Executive Counsel of the International Section. </p>
  <p>Kristen N. Geyer, Culhane Meadows (Moderator) </p>
  <p>
  Kristen Geyer represents sophisticated international banking, custody and technology clients in the US, Europe and Asia.  After more than 30 years practicing in New York, Washington, London and Brussels, she maintains a global practice while working in Austin.</p>
  <p> RSVP by Wednesday, March 1, on <a href="https://law-utexas-csm.symplicity.com/students/"> Symplicity</a> by selecting the "Events" tab.</p><p>If you need an accommodation to participate in this event, please contact the event
                                          event sponsor or the Texas Law Special Events Office at <a href="mailto:specialevents@law.utexas.edu">specialevents@law.utexas.edu</a> no later than seven business days prior to the event.</p>
CATEGORIES:Workshop / Training Program
LOCATION:TNH 3.142 - Walker Classroom
URL:http://law.utexas.edu/calendar/2017/03/02/27485/
CLASS:PUBLIC
STATUS:CONFIRMED
COMMENT:Please contact our Career Counselor, Natalie Aitken at <a href="mailto:naitken@law.utexas.edu">naitken@law.utexas.edu</a>, or 512-232-1154.
END:VEVENT
END:VCALENDAR