BEGIN:VCALENDAR
VERSION:2.0
PRODID:-//UNIVERSITY OF TEXAS SCHOOL OF LAW//NONSGML Events Calendar v1.0//EN
X-WR-TIMEZONE:America/Chicago
BEGIN:VTIMEZONE
TZID:US/Central
X-LIC-LOCATION:America/Chicago
BEGIN:DAYLIGHT
TZOFFSETFROM:-0600
TZOFFSETTO:-0500
TZNAME:CDT
DTSTART:19700308T020000
RRULE:FREQ=YEARLY;BYMONTH=3;BYDAY=2SU
END:DAYLIGHT
BEGIN:STANDARD
TZOFFSETFROM:-0500
TZOFFSETTO:-0600
TZNAME:CST
DTSTART:19701101T020000
RRULE:FREQ=YEARLY;BYMONTH=11;BYDAY=1SU
END:STANDARD
END:VTIMEZONE
BEGIN:VEVENT
DTSTART;TZID=US/Central:20170302T153000
DTEND;VALUE=DATE-TIME;TZID=US/Central:20170302T170000

DTSTAMP:20260422T220000Z
CREATED:20170205T180900Z
LAST-MODIFIED:20170208T013100Z
UID:20170302T153000-28744@law.utexas.edu
SUMMARY:Voting Rights in Trump's America
DESCRIPTION:<p>Please join UT Law's Chapter of ACS and Professor Rick Hasen for coffee and conversation.  The topic today will be Voting Rights in Trump's America.</p>
  <p>
  Professor Hasen is the Chancellor's Professor of Law at the University of California, Irvine School of Law in Irvine and  is a nationally recognized expert in election law and campaign finance regulation, and is co-author of a leading casebook on election law.</p>\n\nIf you need an accommodation to participate in this event, please contact the event sponsor or the Texas Law Special Events Office at specialevents@law.utexas.edu no later than seven business days prior to the event.
X-ALT-DESC;FMTTYPE=text/html:<p>Please join UT Law's Chapter of ACS and Professor Rick Hasen for coffee and conversation.  The topic today will be Voting Rights in Trump's America.</p>
  <p>
  Professor Hasen is the Chancellor's Professor of Law at the University of California, Irvine School of Law in Irvine and  is a nationally recognized expert in election law and campaign finance regulation, and is co-author of a leading casebook on election law.</p><p>If you need an accommodation to participate in this event, please contact the event
                                          event sponsor or the Texas Law Special Events Office at <a href="mailto:specialevents@law.utexas.edu">specialevents@law.utexas.edu</a> no later than seven business days prior to the event.</p>
CATEGORIES:Panel Discussion / Speaker Series
LOCATION:TNH 2.139 - Wilson Classroom
URL:http://law.utexas.edu/calendar/2017/03/02/28744/
CLASS:PUBLIC
STATUS:CONFIRMED

END:VEVENT
END:VCALENDAR