BEGIN:VCALENDAR
VERSION:2.0
PRODID:-//UNIVERSITY OF TEXAS SCHOOL OF LAW//NONSGML Events Calendar v1.0//EN
X-WR-TIMEZONE:America/Chicago
BEGIN:VTIMEZONE
TZID:US/Central
X-LIC-LOCATION:America/Chicago
BEGIN:DAYLIGHT
TZOFFSETFROM:-0600
TZOFFSETTO:-0500
TZNAME:CDT
DTSTART:19700308T020000
RRULE:FREQ=YEARLY;BYMONTH=3;BYDAY=2SU
END:DAYLIGHT
BEGIN:STANDARD
TZOFFSETFROM:-0500
TZOFFSETTO:-0600
TZNAME:CST
DTSTART:19701101T020000
RRULE:FREQ=YEARLY;BYMONTH=11;BYDAY=1SU
END:STANDARD
END:VTIMEZONE
BEGIN:VEVENT
DTSTART;TZID=US/Central:20170302T110000
DTEND;VALUE=DATE-TIME;TZID=US/Central:20170302T123000

DTSTAMP:20260422T161800Z
CREATED:20170224T200100Z
LAST-MODIFIED:20170224T200100Z
UID:20170302T110000-29364@law.utexas.edu
SUMMARY:How Human Rights Impact Intl Practice
DESCRIPTION:<p>This panel will discuss current international human rights issues and the important impacts of these issues on all aspects of today's international law practice.  Topics will include an overview of current international human rights standards, how companies and lawyers can navigate international human rights issues relating to employees and indigenous peoples, an outlook on human rights in the current international immigration environment, and how dispute resolution mechanisms are used to address international human rights issues.</p>
  <p>Panelists:
  o	Thomas Wilson, Partner, Vinson &amp; Elkins (Moderator) 
  o	Professor Ariel E. Dulitzky, The University of Texas School of Law, Human Rights Clinic (Director)
  o	Kate Lincoln-Goldfinch, Lincoln-Goldfinch Law
  o	Eric J. Cassidy, Berg &amp; Androphy
  </p>\n\nIf you need an accommodation to participate in this event, please contact the event sponsor or the Texas Law Special Events Office at specialevents@law.utexas.edu no later than seven business days prior to the event.
X-ALT-DESC;FMTTYPE=text/html:<p>This panel will discuss current international human rights issues and the important impacts of these issues on all aspects of today's international law practice.  Topics will include an overview of current international human rights standards, how companies and lawyers can navigate international human rights issues relating to employees and indigenous peoples, an outlook on human rights in the current international immigration environment, and how dispute resolution mechanisms are used to address international human rights issues.</p>
  <p>Panelists:
  o	Thomas Wilson, Partner, Vinson &amp; Elkins (Moderator) 
  o	Professor Ariel E. Dulitzky, The University of Texas School of Law, Human Rights Clinic (Director)
  o	Kate Lincoln-Goldfinch, Lincoln-Goldfinch Law
  o	Eric J. Cassidy, Berg &amp; Androphy
  </p><p>If you need an accommodation to participate in this event, please contact the event
                                          event sponsor or the Texas Law Special Events Office at <a href="mailto:specialevents@law.utexas.edu">specialevents@law.utexas.edu</a> no later than seven business days prior to the event.</p>
CATEGORIES:Panel Discussion / Speaker Series
LOCATION:TNH 3.140 - Jeffers Courtroom
URL:http://law.utexas.edu/calendar/2017/03/02/29364/
CLASS:PUBLIC
STATUS:CONFIRMED

END:VEVENT
END:VCALENDAR