BEGIN:VCALENDAR
VERSION:2.0
PRODID:-//UNIVERSITY OF TEXAS SCHOOL OF LAW//NONSGML Events Calendar v1.0//EN
X-WR-TIMEZONE:America/Chicago
BEGIN:VTIMEZONE
TZID:US/Central
X-LIC-LOCATION:America/Chicago
BEGIN:DAYLIGHT
TZOFFSETFROM:-0600
TZOFFSETTO:-0500
TZNAME:CDT
DTSTART:19700308T020000
RRULE:FREQ=YEARLY;BYMONTH=3;BYDAY=2SU
END:DAYLIGHT
BEGIN:STANDARD
TZOFFSETFROM:-0500
TZOFFSETTO:-0600
TZNAME:CST
DTSTART:19701101T020000
RRULE:FREQ=YEARLY;BYMONTH=11;BYDAY=1SU
END:STANDARD
END:VTIMEZONE
BEGIN:VEVENT
DTSTART;TZID=US/Central:20170304T090000
DTEND;VALUE=DATE-TIME;TZID=US/Central:20170304T170000

DTSTAMP:20260422T144900Z
CREATED:20160930T202400Z
LAST-MODIFIED:20170228T144400Z
UID:20170304T090000-25746@law.utexas.edu
SUMMARY:Reproductive Freedom in Action 2017
DESCRIPTION:<p>Join If/When/How Texas Law, American Constitution Society (ACS) at Texas Law, and the ACLU of Texas for a day-long conference on the state of reproductive rights and access in Texas. The conference is open to undergraduate, law, medical, and social work students from across the state. Breakfast and Lunch will be provided.</p>\n\nIf you need an accommodation to participate in this event, please contact the event sponsor or the Texas Law Special Events Office at specialevents@law.utexas.edu no later than seven business days prior to the event.
X-ALT-DESC;FMTTYPE=text/html:<p>Join If/When/How Texas Law, American Constitution Society (ACS) at Texas Law, and the ACLU of Texas for a day-long conference on the state of reproductive rights and access in Texas. The conference is open to undergraduate, law, medical, and social work students from across the state. Breakfast and Lunch will be provided.</p><p>If you need an accommodation to participate in this event, please contact the event
                                          event sponsor or the Texas Law Special Events Office at <a href="mailto:specialevents@law.utexas.edu">specialevents@law.utexas.edu</a> no later than seven business days prior to the event.</p>
CATEGORIES:Meeting
LOCATION:TNH 2.114 - Francis Auditorium
URL:http://law.utexas.edu/calendar/2017/03/04/25746/
CLASS:PUBLIC
STATUS:CONFIRMED
COMMENT:Email ifwhenhow.texaslaw@gmail.com
END:VEVENT
END:VCALENDAR