BEGIN:VCALENDAR
VERSION:2.0
PRODID:-//UNIVERSITY OF TEXAS SCHOOL OF LAW//NONSGML Events Calendar v1.0//EN
X-WR-TIMEZONE:America/Chicago
BEGIN:VTIMEZONE
TZID:US/Central
X-LIC-LOCATION:America/Chicago
BEGIN:DAYLIGHT
TZOFFSETFROM:-0600
TZOFFSETTO:-0500
TZNAME:CDT
DTSTART:19700308T020000
RRULE:FREQ=YEARLY;BYMONTH=3;BYDAY=2SU
END:DAYLIGHT
BEGIN:STANDARD
TZOFFSETFROM:-0500
TZOFFSETTO:-0600
TZNAME:CST
DTSTART:19701101T020000
RRULE:FREQ=YEARLY;BYMONTH=11;BYDAY=1SU
END:STANDARD
END:VTIMEZONE
BEGIN:VEVENT
DTSTART;TZID=US/Central:20170304T080000
DTEND;VALUE=DATE-TIME;TZID=US/Central:20170304T170000

DTSTAMP:20260420T115600Z
CREATED:20170106T220100Z
LAST-MODIFIED:20170223T234500Z
UID:20170304T080000-28044@law.utexas.edu
SUMMARY:Explore UT - Texas Law
DESCRIPTION:<p>The Biggest Open House in Texas!  For those unfamiliar with the program, Explore UT features close to 400 programs across campus including performances, exhibits, lectures and activities for the entire family.</p>\n\nIf you need an accommodation to participate in this event, please contact the event sponsor or the Texas Law Special Events Office at specialevents@law.utexas.edu no later than seven business days prior to the event.
X-ALT-DESC;FMTTYPE=text/html:<p>The Biggest Open House in Texas!  For those unfamiliar with the program, Explore UT features close to 400 programs across campus including performances, exhibits, lectures and activities for the entire family.</p><p>If you need an accommodation to participate in this event, please contact the event
                                          event sponsor or the Texas Law Special Events Office at <a href="mailto:specialevents@law.utexas.edu">specialevents@law.utexas.edu</a> no later than seven business days prior to the event.</p>
CATEGORIES:Panel Discussion / Speaker Series
LOCATION:CCJ 2.306 - Eidman Courtroom
URL:http://law.utexas.edu/calendar/2017/03/04/28044/
CLASS:PUBLIC
STATUS:CONFIRMED

END:VEVENT
END:VCALENDAR