BEGIN:VCALENDAR
VERSION:2.0
PRODID:-//UNIVERSITY OF TEXAS SCHOOL OF LAW//NONSGML Events Calendar v1.0//EN
X-WR-TIMEZONE:America/Chicago
BEGIN:VTIMEZONE
TZID:US/Central
X-LIC-LOCATION:America/Chicago
BEGIN:DAYLIGHT
TZOFFSETFROM:-0600
TZOFFSETTO:-0500
TZNAME:CDT
DTSTART:19700308T020000
RRULE:FREQ=YEARLY;BYMONTH=3;BYDAY=2SU
END:DAYLIGHT
BEGIN:STANDARD
TZOFFSETFROM:-0500
TZOFFSETTO:-0600
TZNAME:CST
DTSTART:19701101T020000
RRULE:FREQ=YEARLY;BYMONTH=11;BYDAY=1SU
END:STANDARD
END:VTIMEZONE
BEGIN:VEVENT
DTSTART;TZID=US/Central:20170306T114500
DTEND;VALUE=DATE-TIME;TZID=US/Central:20170306T130000

DTSTAMP:20260420T115400Z
CREATED:20170130T185100Z
LAST-MODIFIED:20170225T221700Z
UID:20170306T114500-28626@law.utexas.edu
SUMMARY:Hernandez v. Mesa &amp; the Bivens Doctrine
DESCRIPTION:<p>Join the American Constitution Society at Texas Law for a lunch talk featuring Professor Stephen Vladeck as he discusses the oral arguments in the Supreme Court case Hernandez v. Mesa, involving the cross-border killing of a 15 year old boy by a Border Patrol Agent. The case brings up issues of a cause of action against a federal agent, as established in Bivens v. Six Unknown Named Agents. Lunch will be provided.</p>\n\nIf you need an accommodation to participate in this event, please contact the event sponsor or the Texas Law Special Events Office at specialevents@law.utexas.edu no later than seven business days prior to the event.
X-ALT-DESC;FMTTYPE=text/html:<p>Join the American Constitution Society at Texas Law for a lunch talk featuring Professor Stephen Vladeck as he discusses the oral arguments in the Supreme Court case Hernandez v. Mesa, involving the cross-border killing of a 15 year old boy by a Border Patrol Agent. The case brings up issues of a cause of action against a federal agent, as established in Bivens v. Six Unknown Named Agents. Lunch will be provided.</p><p>If you need an accommodation to participate in this event, please contact the event
                                          event sponsor or the Texas Law Special Events Office at <a href="mailto:specialevents@law.utexas.edu">specialevents@law.utexas.edu</a> no later than seven business days prior to the event.</p>
CATEGORIES:Lunch
LOCATION:TNH 2.137 - Gayle Classroom
URL:http://law.utexas.edu/calendar/2017/03/06/28626/
CLASS:PUBLIC
STATUS:CONFIRMED
COMMENT:Email utacs.president@gmail.com
END:VEVENT
END:VCALENDAR