BEGIN:VCALENDAR
VERSION:2.0
PRODID:-//UNIVERSITY OF TEXAS SCHOOL OF LAW//NONSGML Events Calendar v1.0//EN
X-WR-TIMEZONE:America/Chicago
BEGIN:VTIMEZONE
TZID:US/Central
X-LIC-LOCATION:America/Chicago
BEGIN:DAYLIGHT
TZOFFSETFROM:-0600
TZOFFSETTO:-0500
TZNAME:CDT
DTSTART:19700308T020000
RRULE:FREQ=YEARLY;BYMONTH=3;BYDAY=2SU
END:DAYLIGHT
BEGIN:STANDARD
TZOFFSETFROM:-0500
TZOFFSETTO:-0600
TZNAME:CST
DTSTART:19701101T020000
RRULE:FREQ=YEARLY;BYMONTH=11;BYDAY=1SU
END:STANDARD
END:VTIMEZONE
BEGIN:VEVENT
DTSTART;TZID=US/Central:20170306T114500
DTEND;VALUE=DATE-TIME;TZID=US/Central:20170306T130000

DTSTAMP:20260420T130100Z
CREATED:20170208T184700Z
LAST-MODIFIED:20170208T184700Z
UID:20170306T114500-28804@law.utexas.edu
SUMMARY:Community Organizing for the Env.
DESCRIPTION:<p>Join the Environmental Law Society for this panel discussion with community organizers from Texas Campaign for the Environment, PODER, and the Hill Country Alliance to hear their narratives and insights into the process of community action. Room TBA. Free lunch will be provided.</p>
  <p>Panelists:
  Susana Almanza, Director, People Organized in the Defense of Earth and her Resources (PODER)
   
  Andrew Dobbs, Austin Program Director, Texas Campaign for the Environment
   
  Christy Muse, Director of External Relations, Shield Ranch and former Executive Director, Hill Country Alliance</p>\n\nIf you need an accommodation to participate in this event, please contact the event sponsor or the Texas Law Special Events Office at specialevents@law.utexas.edu no later than seven business days prior to the event.
X-ALT-DESC;FMTTYPE=text/html:<p>Join the Environmental Law Society for this panel discussion with community organizers from Texas Campaign for the Environment, PODER, and the Hill Country Alliance to hear their narratives and insights into the process of community action. Room TBA. Free lunch will be provided.</p>
  <p>Panelists:
  Susana Almanza, Director, People Organized in the Defense of Earth and her Resources (PODER)
   
  Andrew Dobbs, Austin Program Director, Texas Campaign for the Environment
   
  Christy Muse, Director of External Relations, Shield Ranch and former Executive Director, Hill Country Alliance</p><p>If you need an accommodation to participate in this event, please contact the event
                                          event sponsor or the Texas Law Special Events Office at <a href="mailto:specialevents@law.utexas.edu">specialevents@law.utexas.edu</a> no later than seven business days prior to the event.</p>
CATEGORIES:Panel Discussion / Speaker Series
LOCATION:TNH 3.114 - BFI Seminar Room
URL:http://law.utexas.edu/calendar/2017/03/06/28804/
CLASS:PUBLIC
STATUS:CONFIRMED

END:VEVENT
END:VCALENDAR