BEGIN:VCALENDAR
VERSION:2.0
PRODID:-//UNIVERSITY OF TEXAS SCHOOL OF LAW//NONSGML Events Calendar v1.0//EN
X-WR-TIMEZONE:America/Chicago
BEGIN:VTIMEZONE
TZID:US/Central
X-LIC-LOCATION:America/Chicago
BEGIN:DAYLIGHT
TZOFFSETFROM:-0600
TZOFFSETTO:-0500
TZNAME:CDT
DTSTART:19700308T020000
RRULE:FREQ=YEARLY;BYMONTH=3;BYDAY=2SU
END:DAYLIGHT
BEGIN:STANDARD
TZOFFSETFROM:-0500
TZOFFSETTO:-0600
TZNAME:CST
DTSTART:19701101T020000
RRULE:FREQ=YEARLY;BYMONTH=11;BYDAY=1SU
END:STANDARD
END:VTIMEZONE
BEGIN:VEVENT
DTSTART;TZID=US/Central:20170307T114500
DTEND;VALUE=DATE-TIME;TZID=US/Central:20170307T124500

DTSTAMP:20260420T115500Z
CREATED:20170221T164100Z
LAST-MODIFIED:20170303T215800Z
UID:20170307T114500-29184@law.utexas.edu
SUMMARY:So, You Want to Be a Tax Lawyer?
DESCRIPTION:<p>The <a href="http://www.texastaxsection.org/">State Bar of Texas Tax Section</a> will present a discussion about various career opportunities in the area of tax law. Panelists include <a href="http://www.nortonrosefulbright.com/people/90239/patricklodaniel">Patrick O'Daniel, '92</a>, Partner, Norton Rose Fulbright; <a href="https://www.linkedin.com/in/ray-langenberg-22836a14/">Ray Langenberg, ’82</a>, Texas Comptroller of Public Accounts / Office of the Attorney General; <a href="http://www.abaustin.com/the-team/pdfs/michelle-rosenblatt-bio.pdf">Michelle Rosenblatt</a>, Armbrust &amp; Brown PLLC; <a href="https://www.linkedin.com/in/brock-whalen-27a64452/">and Brock Whalen,</a> IRS Office of Chief Counsel. Moderated by <a href="https://www.mondriklaw.com/index.php?id=5">Christi Mondrik, '01</a>, Mondrik &amp; Associates. </p>
  <p>Lunch will be served. RSVP by Monday, March 6, on <a href="https://law-utexas-csm.symplicity.com/students/"> Symplicity</a> by selecting the "Events" tab.  </p>\n\nIf you need an accommodation to participate in this event, please contact the event sponsor or the Texas Law Special Events Office at specialevents@law.utexas.edu no later than seven business days prior to the event.
X-ALT-DESC;FMTTYPE=text/html:<p>The <a href="http://www.texastaxsection.org/">State Bar of Texas Tax Section</a> will present a discussion about various career opportunities in the area of tax law. Panelists include <a href="http://www.nortonrosefulbright.com/people/90239/patricklodaniel">Patrick O'Daniel, '92</a>, Partner, Norton Rose Fulbright; <a href="https://www.linkedin.com/in/ray-langenberg-22836a14/">Ray Langenberg, ’82</a>, Texas Comptroller of Public Accounts / Office of the Attorney General; <a href="http://www.abaustin.com/the-team/pdfs/michelle-rosenblatt-bio.pdf">Michelle Rosenblatt</a>, Armbrust &amp; Brown PLLC; <a href="https://www.linkedin.com/in/brock-whalen-27a64452/">and Brock Whalen,</a> IRS Office of Chief Counsel. Moderated by <a href="https://www.mondriklaw.com/index.php?id=5">Christi Mondrik, '01</a>, Mondrik &amp; Associates. </p>
  <p>Lunch will be served. RSVP by Monday, March 6, on <a href="https://law-utexas-csm.symplicity.com/students/"> Symplicity</a> by selecting the "Events" tab.  </p><p>If you need an accommodation to participate in this event, please contact the event
                                          event sponsor or the Texas Law Special Events Office at <a href="mailto:specialevents@law.utexas.edu">specialevents@law.utexas.edu</a> no later than seven business days prior to the event.</p>
CATEGORIES:Workshop / Training Program
LOCATION:TNH 3.125 - Denius Classroom
URL:http://law.utexas.edu/calendar/2017/03/07/29184/
CLASS:PUBLIC
STATUS:CONFIRMED
COMMENT:Please contact Simone Leavenworth, Career Counselor, at 512-232-1157 or <a href="mailto:sleavenworth@law.utexas.edu">sleavenworth@law.utexas.edu</a>.
END:VEVENT
END:VCALENDAR