BEGIN:VCALENDAR
VERSION:2.0
PRODID:-//UNIVERSITY OF TEXAS SCHOOL OF LAW//NONSGML Events Calendar v1.0//EN
X-WR-TIMEZONE:America/Chicago
BEGIN:VTIMEZONE
TZID:US/Central
X-LIC-LOCATION:America/Chicago
BEGIN:DAYLIGHT
TZOFFSETFROM:-0600
TZOFFSETTO:-0500
TZNAME:CDT
DTSTART:19700308T020000
RRULE:FREQ=YEARLY;BYMONTH=3;BYDAY=2SU
END:DAYLIGHT
BEGIN:STANDARD
TZOFFSETFROM:-0500
TZOFFSETTO:-0600
TZNAME:CST
DTSTART:19701101T020000
RRULE:FREQ=YEARLY;BYMONTH=11;BYDAY=1SU
END:STANDARD
END:VTIMEZONE
BEGIN:VEVENT
DTSTART;TZID=US/Central:20170308T180000
DTEND;VALUE=DATE-TIME;TZID=US/Central:20170308T200000

DTSTAMP:20260420T114500Z
CREATED:20170225T223900Z
LAST-MODIFIED:20170227T182100Z
UID:20170308T180000-29384@law.utexas.edu
SUMMARY:The Women's List: a screening
DESCRIPTION:<p>Join the American Constitution Society at Texas Law as we celebrate International Women's Day with a screening of the PBS documentary "The Women's List." Dinner will be provided, and we'll have a short group discussion after the film. </p>
  <p>The 2015 documentary highlights the lives of 15 exceptional women. The Women’s List focuses on these individuals’ exceptional achievements, struggles and identities. All trailblazers in their respective fields, these women share their experiences struggling against discrimination and overcoming challenges to make their voices heard and their influence felt. Toni Morrison opens the film with a reading of an introduction she wrote specifically for The Women’s List. </p>\n\nIf you need an accommodation to participate in this event, please contact the event sponsor or the Texas Law Special Events Office at specialevents@law.utexas.edu no later than seven business days prior to the event.
X-ALT-DESC;FMTTYPE=text/html:<p>Join the American Constitution Society at Texas Law as we celebrate International Women's Day with a screening of the PBS documentary "The Women's List." Dinner will be provided, and we'll have a short group discussion after the film. </p>
  <p>The 2015 documentary highlights the lives of 15 exceptional women. The Women’s List focuses on these individuals’ exceptional achievements, struggles and identities. All trailblazers in their respective fields, these women share their experiences struggling against discrimination and overcoming challenges to make their voices heard and their influence felt. Toni Morrison opens the film with a reading of an introduction she wrote specifically for The Women’s List. </p><p>If you need an accommodation to participate in this event, please contact the event
                                          event sponsor or the Texas Law Special Events Office at <a href="mailto:specialevents@law.utexas.edu">specialevents@law.utexas.edu</a> no later than seven business days prior to the event.</p>
CATEGORIES:Meeting
LOCATION:TNH 2.111 - Sheffield-Massey Room
URL:http://law.utexas.edu/calendar/2017/03/08/29384/
CLASS:PUBLIC
STATUS:CONFIRMED
COMMENT:Email utacs.president@gmail.com
END:VEVENT
END:VCALENDAR