BEGIN:VCALENDAR
VERSION:2.0
PRODID:-//UNIVERSITY OF TEXAS SCHOOL OF LAW//NONSGML Events Calendar v1.0//EN
X-WR-TIMEZONE:America/Chicago
BEGIN:VTIMEZONE
TZID:US/Central
X-LIC-LOCATION:America/Chicago
BEGIN:DAYLIGHT
TZOFFSETFROM:-0600
TZOFFSETTO:-0500
TZNAME:CDT
DTSTART:19700308T020000
RRULE:FREQ=YEARLY;BYMONTH=3;BYDAY=2SU
END:DAYLIGHT
BEGIN:STANDARD
TZOFFSETFROM:-0500
TZOFFSETTO:-0600
TZNAME:CST
DTSTART:19701101T020000
RRULE:FREQ=YEARLY;BYMONTH=11;BYDAY=1SU
END:STANDARD
END:VTIMEZONE
BEGIN:VEVENT
DTSTART;TZID=US/Central:20170308T174500


DTSTAMP:20260420T160100Z
CREATED:20170227T171000Z
LAST-MODIFIED:20170303T170700Z
UID:20170308T174500-29406@law.utexas.edu
SUMMARY:TLR Presents: Life After Law School
DESCRIPTION:<p>This event is open to all 1Ls. Texas Law Review alumni with a broad range of interests and backgrounds will host a panel for about 45 minutes in the auditorium. The panel will be followed by a happy-hour-style reception in the atrium to allow 1Ls a chance to meet the alumni. Appetizers and drinks will be served.</p>\n\nIf you need an accommodation to participate in this event, please contact the event sponsor or the Texas Law Special Events Office at specialevents@law.utexas.edu no later than seven business days prior to the event.
X-ALT-DESC;FMTTYPE=text/html:<p>This event is open to all 1Ls. Texas Law Review alumni with a broad range of interests and backgrounds will host a panel for about 45 minutes in the auditorium. The panel will be followed by a happy-hour-style reception in the atrium to allow 1Ls a chance to meet the alumni. Appetizers and drinks will be served.</p><p>If you need an accommodation to participate in this event, please contact the event
                                          event sponsor or the Texas Law Special Events Office at <a href="mailto:specialevents@law.utexas.edu">specialevents@law.utexas.edu</a> no later than seven business days prior to the event.</p>
CATEGORIES:Reception
LOCATION:TNH 2.114 - Francis Auditorium
URL:http://law.utexas.edu/calendar/2017/03/08/29406/
CLASS:PUBLIC
STATUS:CONFIRMED

END:VEVENT
END:VCALENDAR