BEGIN:VCALENDAR
VERSION:2.0
PRODID:-//UNIVERSITY OF TEXAS SCHOOL OF LAW//NONSGML Events Calendar v1.0//EN
X-WR-TIMEZONE:America/Chicago
BEGIN:VTIMEZONE
TZID:US/Central
X-LIC-LOCATION:America/Chicago
BEGIN:DAYLIGHT
TZOFFSETFROM:-0600
TZOFFSETTO:-0500
TZNAME:CDT
DTSTART:19700308T020000
RRULE:FREQ=YEARLY;BYMONTH=3;BYDAY=2SU
END:DAYLIGHT
BEGIN:STANDARD
TZOFFSETFROM:-0500
TZOFFSETTO:-0600
TZNAME:CST
DTSTART:19701101T020000
RRULE:FREQ=YEARLY;BYMONTH=11;BYDAY=1SU
END:STANDARD
END:VTIMEZONE
BEGIN:VEVENT
DTSTART;TZID=US/Central:20170321T120000
DTEND;VALUE=DATE-TIME;TZID=US/Central:20170321T130000

DTSTAMP:20260420T114200Z
CREATED:20170113T175500Z
LAST-MODIFIED:20170113T175500Z
UID:20170321T120000-28289@law.utexas.edu
SUMMARY:Bar Exam Skills
DESCRIPTION:<p>3Ls and LLMs are invited to get a jump on studying for the bar with these skills based sessions. Learn how to effectively write bar exam essay answers. Texas bar questions will be used as examples. Sessions take place on Tuesdays from noon-1pm in TNH 2.124 and repeat Thursday from 12-1 in TNH 2.124. This is a four week series beginning on March 21. Each session builds on the exercise from the previous week.</p>\n\nIf you need an accommodation to participate in this event, please contact the event sponsor or the Texas Law Special Events Office at specialevents@law.utexas.edu no later than seven business days prior to the event.
X-ALT-DESC;FMTTYPE=text/html:<p>3Ls and LLMs are invited to get a jump on studying for the bar with these skills based sessions. Learn how to effectively write bar exam essay answers. Texas bar questions will be used as examples. Sessions take place on Tuesdays from noon-1pm in TNH 2.124 and repeat Thursday from 12-1 in TNH 2.124. This is a four week series beginning on March 21. Each session builds on the exercise from the previous week.</p><p>If you need an accommodation to participate in this event, please contact the event
                                          event sponsor or the Texas Law Special Events Office at <a href="mailto:specialevents@law.utexas.edu">specialevents@law.utexas.edu</a> no later than seven business days prior to the event.</p>
CATEGORIES:Workshop / Training Program
LOCATION:TNH 2.124 - Reaud Classroom
URL:http://law.utexas.edu/calendar/2017/03/21/28289/
CLASS:PUBLIC
STATUS:CONFIRMED

END:VEVENT
END:VCALENDAR