BEGIN:VCALENDAR
VERSION:2.0
PRODID:-//UNIVERSITY OF TEXAS SCHOOL OF LAW//NONSGML Events Calendar v1.0//EN
X-WR-TIMEZONE:America/Chicago
BEGIN:VTIMEZONE
TZID:US/Central
X-LIC-LOCATION:America/Chicago
BEGIN:DAYLIGHT
TZOFFSETFROM:-0600
TZOFFSETTO:-0500
TZNAME:CDT
DTSTART:19700308T020000
RRULE:FREQ=YEARLY;BYMONTH=3;BYDAY=2SU
END:DAYLIGHT
BEGIN:STANDARD
TZOFFSETFROM:-0500
TZOFFSETTO:-0600
TZNAME:CST
DTSTART:19701101T020000
RRULE:FREQ=YEARLY;BYMONTH=11;BYDAY=1SU
END:STANDARD
END:VTIMEZONE
BEGIN:VEVENT
DTSTART;TZID=US/Central:20170321T160000
DTEND;VALUE=DATE-TIME;TZID=US/Central:20170321T180000

DTSTAMP:20260420T114200Z
CREATED:20170309T160700Z
LAST-MODIFIED:20170309T160700Z
UID:20170321T160000-29684@law.utexas.edu
SUMMARY:Widows: Loss, Land, and the Law
DESCRIPTION:<p>Join us for a conversation with award-winning journalist Cynthia Gorney about her Pulitzer Center-supported National Geographic project, "For Widows, Life After Loss."</p>
  <p>Worldwide, there are about 259 million widows. Nearly half live in poverty. Even where laws protect their rights, widows are sometimes mistreated.</p>
  <p>In Uganda, as in many other parts of the world, widowhood is a sentence to a life of misery. After her husband died, Betty Nanozi was robbed of everything she owned, twice. Her cow was beaten to death. Her land was forcefully taken from her.</p>
  <p>Gorney will be joined by Pulitzer Center executive director Jon Sawyer. They will discuss both the field research behind her project—in India and Bosnia as well as Uganda—and how that reflects patterns of discrimination that are all too common across the globe.
  </p>\n\nIf you need an accommodation to participate in this event, please contact the event sponsor or the Texas Law Special Events Office at specialevents@law.utexas.edu no later than seven business days prior to the event. Speakers: Cynthia Gorney, C, National Geographic, Jon Sawyer, E, Pulitzer Center on Crisis Reporting
X-ALT-DESC;FMTTYPE=text/html:<p>Join us for a conversation with award-winning journalist Cynthia Gorney about her Pulitzer Center-supported National Geographic project, "For Widows, Life After Loss."</p>
  <p>Worldwide, there are about 259 million widows. Nearly half live in poverty. Even where laws protect their rights, widows are sometimes mistreated.</p>
  <p>In Uganda, as in many other parts of the world, widowhood is a sentence to a life of misery. After her husband died, Betty Nanozi was robbed of everything she owned, twice. Her cow was beaten to death. Her land was forcefully taken from her.</p>
  <p>Gorney will be joined by Pulitzer Center executive director Jon Sawyer. They will discuss both the field research behind her project—in India and Bosnia as well as Uganda—and how that reflects patterns of discrimination that are all too common across the globe.
  </p><p>If you need an accommodation to participate in this event, please contact the event
                                          event sponsor or the Texas Law Special Events Office at <a href="mailto:specialevents@law.utexas.edu">specialevents@law.utexas.edu</a> no later than seven business days prior to the event.</p> Speakers: Cynthia Gorney, C, National Geographic, Jon Sawyer, E, Pulitzer Center on Crisis Reporting

LOCATION:TNH 2.111 - Sheffield-Massey Room
URL:http://law.utexas.edu/calendar/2017/03/21/29684/
CLASS:PUBLIC
STATUS:CONFIRMED

END:VEVENT
END:VCALENDAR