BEGIN:VCALENDAR
VERSION:2.0
PRODID:-//UNIVERSITY OF TEXAS SCHOOL OF LAW//NONSGML Events Calendar v1.0//EN
X-WR-TIMEZONE:America/Chicago
BEGIN:VTIMEZONE
TZID:US/Central
X-LIC-LOCATION:America/Chicago
BEGIN:DAYLIGHT
TZOFFSETFROM:-0600
TZOFFSETTO:-0500
TZNAME:CDT
DTSTART:19700308T020000
RRULE:FREQ=YEARLY;BYMONTH=3;BYDAY=2SU
END:DAYLIGHT
BEGIN:STANDARD
TZOFFSETFROM:-0500
TZOFFSETTO:-0600
TZNAME:CST
DTSTART:19701101T020000
RRULE:FREQ=YEARLY;BYMONTH=11;BYDAY=1SU
END:STANDARD
END:VTIMEZONE
BEGIN:VEVENT
DTSTART;TZID=US/Central:20170322T100000
DTEND;VALUE=DATE-TIME;TZID=US/Central:20170322T150000

DTSTAMP:20260420T115400Z
CREATED:20170224T223000Z
LAST-MODIFIED:20170227T205900Z
UID:20170322T100000-29345@law.utexas.edu
SUMMARY:UT Marketplace - Bar Prep Companies
DESCRIPTION:<p>Bar exam preparation companies will be at the law school to discuss their programs and services. Come talk to a rep about which program will work best for you. All students should take a bar preparation course.</p>
  <p>Free swag and food provided!</p>\n\nIf you need an accommodation to participate in this event, please contact the event sponsor or the Texas Law Special Events Office at specialevents@law.utexas.edu no later than seven business days prior to the event.
X-ALT-DESC;FMTTYPE=text/html:<p>Bar exam preparation companies will be at the law school to discuss their programs and services. Come talk to a rep about which program will work best for you. All students should take a bar preparation course.</p>
  <p>Free swag and food provided!</p><p>If you need an accommodation to participate in this event, please contact the event
                                          event sponsor or the Texas Law Special Events Office at <a href="mailto:specialevents@law.utexas.edu">specialevents@law.utexas.edu</a> no later than seven business days prior to the event.</p>
CATEGORIES:Other
LOCATION:TNH 2.100 - Susman Godfrey Atrium
URL:http://law.utexas.edu/calendar/2017/03/22/29345/
CLASS:PUBLIC
STATUS:CONFIRMED

END:VEVENT
END:VCALENDAR