BEGIN:VCALENDAR
VERSION:2.0
PRODID:-//UNIVERSITY OF TEXAS SCHOOL OF LAW//NONSGML Events Calendar v1.0//EN
X-WR-TIMEZONE:America/Chicago
BEGIN:VTIMEZONE
TZID:US/Central
X-LIC-LOCATION:America/Chicago
BEGIN:DAYLIGHT
TZOFFSETFROM:-0600
TZOFFSETTO:-0500
TZNAME:CDT
DTSTART:19700308T020000
RRULE:FREQ=YEARLY;BYMONTH=3;BYDAY=2SU
END:DAYLIGHT
BEGIN:STANDARD
TZOFFSETFROM:-0500
TZOFFSETTO:-0600
TZNAME:CST
DTSTART:19701101T020000
RRULE:FREQ=YEARLY;BYMONTH=11;BYDAY=1SU
END:STANDARD
END:VTIMEZONE
BEGIN:VEVENT
DTSTART;TZID=US/Central:20170323T090000
DTEND;VALUE=DATE-TIME;TZID=US/Central:20170323T100000

DTSTAMP:20260420T115400Z
CREATED:20161115T152600Z
LAST-MODIFIED:20161116T154900Z
UID:20170323T090000-26985@law.utexas.edu
SUMMARY:Long Career Launch Program
DESCRIPTION:<p>For 3Ls seeking permanent employment, come learn about Texas Law's three-month postgraduate internship program, the Long Career Launch Program (LCLP). Strategies will be discussed on how to maximize the benefit of LCLP and similar postgraduate programs. You will also obtain practical advice on how to make your job search more efficient and productive. Coffee and pastries will be served.</p>
  <p>RSVP by Wednesday, March 22,  on <a href="https://law-utexas-csm.symplicity.com/students/"> Symplicity</a> by selecting the "Events" tab.</p>\n\nIf you need an accommodation to participate in this event, please contact the event sponsor or the Texas Law Special Events Office at specialevents@law.utexas.edu no later than seven business days prior to the event.
X-ALT-DESC;FMTTYPE=text/html:<p>For 3Ls seeking permanent employment, come learn about Texas Law's three-month postgraduate internship program, the Long Career Launch Program (LCLP). Strategies will be discussed on how to maximize the benefit of LCLP and similar postgraduate programs. You will also obtain practical advice on how to make your job search more efficient and productive. Coffee and pastries will be served.</p>
  <p>RSVP by Wednesday, March 22,  on <a href="https://law-utexas-csm.symplicity.com/students/"> Symplicity</a> by selecting the "Events" tab.</p><p>If you need an accommodation to participate in this event, please contact the event
                                          event sponsor or the Texas Law Special Events Office at <a href="mailto:specialevents@law.utexas.edu">specialevents@law.utexas.edu</a> no later than seven business days prior to the event.</p>
CATEGORIES:Workshop / Training Program
LOCATION:TNH 3.126 - Ratliff Classroom
URL:http://law.utexas.edu/calendar/2017/03/23/26985/
CLASS:PUBLIC
STATUS:CONFIRMED
COMMENT:Please contact Nicole Simmons, Director of Public Service Programs, at 512-232-1160 or <a href="mailto:nsimmons@law.utexas.edu">nsimmons@law.utexas.edu</a>.
END:VEVENT
END:VCALENDAR