BEGIN:VCALENDAR
VERSION:2.0
PRODID:-//UNIVERSITY OF TEXAS SCHOOL OF LAW//NONSGML Events Calendar v1.0//EN
X-WR-TIMEZONE:America/Chicago
BEGIN:VTIMEZONE
TZID:US/Central
X-LIC-LOCATION:America/Chicago
BEGIN:DAYLIGHT
TZOFFSETFROM:-0600
TZOFFSETTO:-0500
TZNAME:CDT
DTSTART:19700308T020000
RRULE:FREQ=YEARLY;BYMONTH=3;BYDAY=2SU
END:DAYLIGHT
BEGIN:STANDARD
TZOFFSETFROM:-0500
TZOFFSETTO:-0600
TZNAME:CST
DTSTART:19701101T020000
RRULE:FREQ=YEARLY;BYMONTH=11;BYDAY=1SU
END:STANDARD
END:VTIMEZONE
BEGIN:VEVENT
DTSTART;TZID=US/Central:20170324
DTEND;TZID=US/Central:20170325
X-MICROSOFT-CDO-ALLDAYEVENT:TRUE
X-FUNAMBOL-ALLDAY:TRUE
DTSTAMP:20260420T130100Z
CREATED:20161108T215100Z
LAST-MODIFIED:20170322T144600Z
UID:20170324T083000-26925@law.utexas.edu
SUMMARY:TELJ Annual Symposium: What Comes Next
DESCRIPTION:<p>"What Comes Next":
  Energy, the Environment, Law &amp; Policy
  Under a New Administration</p>
  <p>9 am - 5 pm 
  Eidman Courtroom, UT Law</p>
  <p>Program:</p>
  <p>Keynote: 9:15-10:00 a.m.
  "What Comes Next for Climate Policy"
  Bob Sussman, Former #2 at EPA
  Introduced by Ward Farnsworth, Dean, UT Law </p>
  <p>Break</p>
  <p>Panel 1: 10:15-11:30 a.m.
  "What Comes Next for Energy Innovation"
  James Coleman, SMU Law
  David Hart, George Mason Center for Science and Technology
  Brewster McCracken, Pecan Street
  David Spence, UT Law/UT Business
  Moderator: Melinda Taylor, UT Kay Bailey Hutchison Center for Energy, Law and Business </p>
  <p>Lunch: 11:30 a.m. - 12:30 p.m.</p>
  <p>Panel 2: 12:30-1:45 p.m.
  "What Comes Next for Federal Regulatory Policy"
  Pam Giblin, Baker Botts
  Tom McGarity, UT Law
  Rena Steinzor, University of Maryland Law
  Moderator: David Adelman, UT Law</p>
  <p>Break</p>
  <p>Panel 3: 2:00-3:15 p.m.
  "What Comes Next for State and Local Approaches/Solutions"
  Lara Cottingham, City of Houston 
  Eric Groten, Vinson &amp; Elkins 
  Marisa Perales, Frederick Perales Allmon &amp; Rockwell
  Moderator: Kelly Haragan, UT Law </p>
  <p>Break</p>
  <p>Panel 4: 3:30-4:45 p.m.
  "What Comes Next for Climate Change and the Law"
  Scott Deatherage, S. Deatherage Law Firm/UT Law
  Deborah Sivas, Stanford Law 
  Romany Webb, Columbia Law
  Moderator: Andy Bowman, Pioneer Green Energy/UT Law</p>
  <p>Closing Reception</p>\n\nIf you need an accommodation to participate in this event, please contact the event sponsor or the Texas Law Special Events Office at specialevents@law.utexas.edu no later than seven business days prior to the event.
X-ALT-DESC;FMTTYPE=text/html:<p>"What Comes Next":
  Energy, the Environment, Law &amp; Policy
  Under a New Administration</p>
  <p>9 am - 5 pm 
  Eidman Courtroom, UT Law</p>
  <p>Program:</p>
  <p>Keynote: 9:15-10:00 a.m.
  "What Comes Next for Climate Policy"
  Bob Sussman, Former #2 at EPA
  Introduced by Ward Farnsworth, Dean, UT Law </p>
  <p>Break</p>
  <p>Panel 1: 10:15-11:30 a.m.
  "What Comes Next for Energy Innovation"
  James Coleman, SMU Law
  David Hart, George Mason Center for Science and Technology
  Brewster McCracken, Pecan Street
  David Spence, UT Law/UT Business
  Moderator: Melinda Taylor, UT Kay Bailey Hutchison Center for Energy, Law and Business </p>
  <p>Lunch: 11:30 a.m. - 12:30 p.m.</p>
  <p>Panel 2: 12:30-1:45 p.m.
  "What Comes Next for Federal Regulatory Policy"
  Pam Giblin, Baker Botts
  Tom McGarity, UT Law
  Rena Steinzor, University of Maryland Law
  Moderator: David Adelman, UT Law</p>
  <p>Break</p>
  <p>Panel 3: 2:00-3:15 p.m.
  "What Comes Next for State and Local Approaches/Solutions"
  Lara Cottingham, City of Houston 
  Eric Groten, Vinson &amp; Elkins 
  Marisa Perales, Frederick Perales Allmon &amp; Rockwell
  Moderator: Kelly Haragan, UT Law </p>
  <p>Break</p>
  <p>Panel 4: 3:30-4:45 p.m.
  "What Comes Next for Climate Change and the Law"
  Scott Deatherage, S. Deatherage Law Firm/UT Law
  Deborah Sivas, Stanford Law 
  Romany Webb, Columbia Law
  Moderator: Andy Bowman, Pioneer Green Energy/UT Law</p>
  <p>Closing Reception</p><p>If you need an accommodation to participate in this event, please contact the event
                                          event sponsor or the Texas Law Special Events Office at <a href="mailto:specialevents@law.utexas.edu">specialevents@law.utexas.edu</a> no later than seven business days prior to the event.</p>
CATEGORIES:Symposium
LOCATION:CCJ 2.300 - Jamail Pavilion
URL:http://law.utexas.edu/calendar/2017/03/24/26925/
CLASS:PUBLIC
STATUS:CONFIRMED
COMMENT:Contact our Symposium Director, Tyler Allard, at tyler.allard@utexas.edu or texasenvironmentallawjournal@gmail.com.
END:VEVENT
END:VCALENDAR