BEGIN:VCALENDAR
VERSION:2.0
PRODID:-//UNIVERSITY OF TEXAS SCHOOL OF LAW//NONSGML Events Calendar v1.0//EN
X-WR-TIMEZONE:America/Chicago
BEGIN:VTIMEZONE
TZID:US/Central
X-LIC-LOCATION:America/Chicago
BEGIN:DAYLIGHT
TZOFFSETFROM:-0600
TZOFFSETTO:-0500
TZNAME:CDT
DTSTART:19700308T020000
RRULE:FREQ=YEARLY;BYMONTH=3;BYDAY=2SU
END:DAYLIGHT
BEGIN:STANDARD
TZOFFSETFROM:-0500
TZOFFSETTO:-0600
TZNAME:CST
DTSTART:19701101T020000
RRULE:FREQ=YEARLY;BYMONTH=11;BYDAY=1SU
END:STANDARD
END:VTIMEZONE
BEGIN:VEVENT
DTSTART;TZID=US/Central:20170324T090000
DTEND;VALUE=DATE-TIME;TZID=US/Central:20170324T160000

DTSTAMP:20260420T144300Z
CREATED:20170120T161000Z
LAST-MODIFIED:20170120T161000Z
UID:20170324T090000-28386@law.utexas.edu
SUMMARY:Remaining Mindful During Conflict
DESCRIPTION:<p>The brain is programmed to respond protectively in times of perceived threat. However, situations can be labeled as threatening in moments when we could more benefit more from thoughtfulness than automatically defensive responsiveness. Understanding our minds and how they respond to strong emotions is vital to learning how to shape our responses. This workshop will address this phenomenon and discuss mindful strategies for proactively preparing for intervening in conflict.</p>
  <p>What You Will Learn</p>
  <p>Understand stress-induced responses of the brain
  Evaluate how early life experiences shape beliefs about conflict
  Practice proactive mindfulness strategies that prepare the brain to remain relational during intense emotions
  Practice relational interventions for repair after conflict</p>
  <p>Program Schedule</p>
  <p>Friday, March 24, 2017
  9 am - 4 pm
  Lunch on your own</p>
  <p>Instructors</p>
  <p>Marshall Lyles, LMFT-S, LPC-S, RPT-S, serves as the Director of Training at the Center for Relational Care, a counseling center in Austin, Texas. Most of Marshall’s clinical practice has focused on attachment trauma and its effect on family relationships. After years of seeing clients, Marshall now conducts supervision and consultation sessions with counseling professionals and leads trainings in both parenting and professional settings; much of his consultation and training focuses on the use of sandtray therapy within an attachment and trauma-informed context. As Marshall is nearing the completion of his Ph.D. in Marriage and Family Therapy, writing and teaching take up much of his time. In addition to his professional life, Marshall and his wife are adoptive parents of two amazing teenagers.</p>
  <p>Fees</p>
  <p>$125. Parking not included.</p>\n\nIf you need an accommodation to participate in this event, please contact the event sponsor or the Texas Law Special Events Office at specialevents@law.utexas.edu no later than seven business days prior to the event.
X-ALT-DESC;FMTTYPE=text/html:<p>The brain is programmed to respond protectively in times of perceived threat. However, situations can be labeled as threatening in moments when we could more benefit more from thoughtfulness than automatically defensive responsiveness. Understanding our minds and how they respond to strong emotions is vital to learning how to shape our responses. This workshop will address this phenomenon and discuss mindful strategies for proactively preparing for intervening in conflict.</p>
  <p>What You Will Learn</p>
  <p>Understand stress-induced responses of the brain
  Evaluate how early life experiences shape beliefs about conflict
  Practice proactive mindfulness strategies that prepare the brain to remain relational during intense emotions
  Practice relational interventions for repair after conflict</p>
  <p>Program Schedule</p>
  <p>Friday, March 24, 2017
  9 am - 4 pm
  Lunch on your own</p>
  <p>Instructors</p>
  <p>Marshall Lyles, LMFT-S, LPC-S, RPT-S, serves as the Director of Training at the Center for Relational Care, a counseling center in Austin, Texas. Most of Marshall’s clinical practice has focused on attachment trauma and its effect on family relationships. After years of seeing clients, Marshall now conducts supervision and consultation sessions with counseling professionals and leads trainings in both parenting and professional settings; much of his consultation and training focuses on the use of sandtray therapy within an attachment and trauma-informed context. As Marshall is nearing the completion of his Ph.D. in Marriage and Family Therapy, writing and teaching take up much of his time. In addition to his professional life, Marshall and his wife are adoptive parents of two amazing teenagers.</p>
  <p>Fees</p>
  <p>$125. Parking not included.</p><p>If you need an accommodation to participate in this event, please contact the event
                                          event sponsor or the Texas Law Special Events Office at <a href="mailto:specialevents@law.utexas.edu">specialevents@law.utexas.edu</a> no later than seven business days prior to the event.</p>
CATEGORIES:Workshop / Training Program
LOCATION:
URL:http://law.utexas.edu/calendar/2017/03/24/28386/
CLASS:PUBLIC
STATUS:CONFIRMED

END:VEVENT
END:VCALENDAR