BEGIN:VCALENDAR
VERSION:2.0
PRODID:-//UNIVERSITY OF TEXAS SCHOOL OF LAW//NONSGML Events Calendar v1.0//EN
X-WR-TIMEZONE:America/Chicago
BEGIN:VTIMEZONE
TZID:US/Central
X-LIC-LOCATION:America/Chicago
BEGIN:DAYLIGHT
TZOFFSETFROM:-0600
TZOFFSETTO:-0500
TZNAME:CDT
DTSTART:19700308T020000
RRULE:FREQ=YEARLY;BYMONTH=3;BYDAY=2SU
END:DAYLIGHT
BEGIN:STANDARD
TZOFFSETFROM:-0500
TZOFFSETTO:-0600
TZNAME:CST
DTSTART:19701101T020000
RRULE:FREQ=YEARLY;BYMONTH=11;BYDAY=1SU
END:STANDARD
END:VTIMEZONE
BEGIN:VEVENT
DTSTART;TZID=US/Central:20170328T173000
DTEND;VALUE=DATE-TIME;TZID=US/Central:20170328T190000

DTSTAMP:20260420T115500Z
CREATED:20170220T205100Z
LAST-MODIFIED:20170320T195300Z
UID:20170328T173000-29105@law.utexas.edu
SUMMARY:What I Wish I Had Known in Law School
DESCRIPTION:<p>CHLSA, TMLS, and WLC invite their members and Texas Law Alumni Mentors to "What I Wish I Had Known in Law School," an informative and engaging discussion with female attorneys in Biglaw, government, and nonprofit about issues women face in the legal profession.</p>
  <p>Wine and cheese will be served, and attire is business casual.</p>
  <p>This event is sponsored by the Center for Women in Law, CHLSA: Chicano/Hispanic Law Students' Association, Thurgood Marshall Legal Society - Black Law Students Association, Texas Law Alumni Mentoring Program, and Texas Law Women's Law Caucus.
  </p>\n\nIf you need an accommodation to participate in this event, please contact the event sponsor or the Texas Law Special Events Office at specialevents@law.utexas.edu no later than seven business days prior to the event.
X-ALT-DESC;FMTTYPE=text/html:<p>CHLSA, TMLS, and WLC invite their members and Texas Law Alumni Mentors to "What I Wish I Had Known in Law School," an informative and engaging discussion with female attorneys in Biglaw, government, and nonprofit about issues women face in the legal profession.</p>
  <p>Wine and cheese will be served, and attire is business casual.</p>
  <p>This event is sponsored by the Center for Women in Law, CHLSA: Chicano/Hispanic Law Students' Association, Thurgood Marshall Legal Society - Black Law Students Association, Texas Law Alumni Mentoring Program, and Texas Law Women's Law Caucus.
  </p><p>If you need an accommodation to participate in this event, please contact the event
                                          event sponsor or the Texas Law Special Events Office at <a href="mailto:specialevents@law.utexas.edu">specialevents@law.utexas.edu</a> no later than seven business days prior to the event.</p>
CATEGORIES:Panel Discussion / Speaker Series
LOCATION:TNH 2.111 - Sheffield-Massey Room
URL:http://law.utexas.edu/calendar/2017/03/28/29105/
CLASS:PUBLIC
STATUS:CONFIRMED
COMMENT:https://goo.gl/forms/xDzXdMnMCK1rTeL53
END:VEVENT
END:VCALENDAR