BEGIN:VCALENDAR
VERSION:2.0
PRODID:-//UNIVERSITY OF TEXAS SCHOOL OF LAW//NONSGML Events Calendar v1.0//EN
X-WR-TIMEZONE:America/Chicago
BEGIN:VTIMEZONE
TZID:US/Central
X-LIC-LOCATION:America/Chicago
BEGIN:DAYLIGHT
TZOFFSETFROM:-0600
TZOFFSETTO:-0500
TZNAME:CDT
DTSTART:19700308T020000
RRULE:FREQ=YEARLY;BYMONTH=3;BYDAY=2SU
END:DAYLIGHT
BEGIN:STANDARD
TZOFFSETFROM:-0500
TZOFFSETTO:-0600
TZNAME:CST
DTSTART:19701101T020000
RRULE:FREQ=YEARLY;BYMONTH=11;BYDAY=1SU
END:STANDARD
END:VTIMEZONE
BEGIN:VEVENT
DTSTART;TZID=US/Central:20170328T114500
DTEND;VALUE=DATE-TIME;TZID=US/Central:20170328T124500

DTSTAMP:20260420T115300Z
CREATED:20170223T231800Z
LAST-MODIFIED:20170322T214500Z
UID:20170328T114500-29327@law.utexas.edu
SUMMARY:How to Get a Legal Job in Austin
DESCRIPTION:<p>Lawyers from the <a href="http://www.austinbar.org/young-lawyers/">Austin Young Lawyers Association (AYLA)</a> will share tips about how to make connections in the Austin legal community and find an internship or permanent job in Austin. Panelists include <a href="http://www.butlersnow.com/attorney/katie-fillmore/">Katie Fillmore</a>, Butler Snow LLP / AYLA President; Austin Kaplan, <a href="http://kaplanlawatx.com/bio/">Kaplan Law Firm, PLLC</a> / AYLA President-Elect; Drew Harris, Assistant Attorney General, <a href="https://texasattorneygeneral.gov/">Office of the Texas Attorney General</a> / AYLA Secretary;  Craig Moore, '04, Assistant District Attorney, <a href="https://www.traviscountytx.gov/district-attorney">Travis County District Attorney’s Office</a> / AYLA Government Representative; Meagan Harding, ’12, <a href="https://www.traviscountytx.gov/district-attorney">Travis County District Attorney’s Office</a> / <a href="http://www.austinblacklawyers.org/">Austin Black Lawyers Association</a> Rep for AYLA; and Joey Leak, ’09, Joseph Leak Law Firm / AYLA Member. Moderated by Simone Leavenworth, Career Counselor in the CSO.</p>
  <p>Co-sponsored by the Austin Young Lawyers Association, Austin Young Lawyers Association—Student Chapter, Thurgood Marshall Legal Society, and the Career Services Office.</p>
  <p>Lunch served. RSVP by Monday, March 27, on <a href="https://law-utexas-csm.symplicity.com/students/">Symplicity</a> by selecting the "Events" tab.</p>\n\nIf you need an accommodation to participate in this event, please contact the event sponsor or the Texas Law Special Events Office at specialevents@law.utexas.edu no later than seven business days prior to the event.
X-ALT-DESC;FMTTYPE=text/html:<p>Lawyers from the <a href="http://www.austinbar.org/young-lawyers/">Austin Young Lawyers Association (AYLA)</a> will share tips about how to make connections in the Austin legal community and find an internship or permanent job in Austin. Panelists include <a href="http://www.butlersnow.com/attorney/katie-fillmore/">Katie Fillmore</a>, Butler Snow LLP / AYLA President; Austin Kaplan, <a href="http://kaplanlawatx.com/bio/">Kaplan Law Firm, PLLC</a> / AYLA President-Elect; Drew Harris, Assistant Attorney General, <a href="https://texasattorneygeneral.gov/">Office of the Texas Attorney General</a> / AYLA Secretary;  Craig Moore, '04, Assistant District Attorney, <a href="https://www.traviscountytx.gov/district-attorney">Travis County District Attorney’s Office</a> / AYLA Government Representative; Meagan Harding, ’12, <a href="https://www.traviscountytx.gov/district-attorney">Travis County District Attorney’s Office</a> / <a href="http://www.austinblacklawyers.org/">Austin Black Lawyers Association</a> Rep for AYLA; and Joey Leak, ’09, Joseph Leak Law Firm / AYLA Member. Moderated by Simone Leavenworth, Career Counselor in the CSO.</p>
  <p>Co-sponsored by the Austin Young Lawyers Association, Austin Young Lawyers Association—Student Chapter, Thurgood Marshall Legal Society, and the Career Services Office.</p>
  <p>Lunch served. RSVP by Monday, March 27, on <a href="https://law-utexas-csm.symplicity.com/students/">Symplicity</a> by selecting the "Events" tab.</p><p>If you need an accommodation to participate in this event, please contact the event
                                          event sponsor or the Texas Law Special Events Office at <a href="mailto:specialevents@law.utexas.edu">specialevents@law.utexas.edu</a> no later than seven business days prior to the event.</p>
CATEGORIES:Workshop / Training Program
LOCATION:TNH 3.140 - Jeffers Courtroom
URL:http://law.utexas.edu/calendar/2017/03/28/29327/
CLASS:PUBLIC
STATUS:CONFIRMED
COMMENT:Please contact Simone Leavenworth in the CSO at 512-232-1157 or <a href="mailto:sleavenworth@law.utexas.edu">sleavenworth@law.utexas.edu</a>.
END:VEVENT
END:VCALENDAR