BEGIN:VCALENDAR
VERSION:2.0
PRODID:-//UNIVERSITY OF TEXAS SCHOOL OF LAW//NONSGML Events Calendar v1.0//EN
X-WR-TIMEZONE:America/Chicago
BEGIN:VTIMEZONE
TZID:US/Central
X-LIC-LOCATION:America/Chicago
BEGIN:DAYLIGHT
TZOFFSETFROM:-0600
TZOFFSETTO:-0500
TZNAME:CDT
DTSTART:19700308T020000
RRULE:FREQ=YEARLY;BYMONTH=3;BYDAY=2SU
END:DAYLIGHT
BEGIN:STANDARD
TZOFFSETFROM:-0500
TZOFFSETTO:-0600
TZNAME:CST
DTSTART:19701101T020000
RRULE:FREQ=YEARLY;BYMONTH=11;BYDAY=1SU
END:STANDARD
END:VTIMEZONE
BEGIN:VEVENT
DTSTART;TZID=US/Central:20170329T114500
DTEND;VALUE=DATE-TIME;TZID=US/Central:20170329T124500

DTSTAMP:20260420T102100Z
CREATED:20170309T195000Z
LAST-MODIFIED:20170329T134500Z
UID:20170329T114500-29685@law.utexas.edu
SUMMARY:Getting It Done! Real Estate Development
DESCRIPTION:<p>Michael Molina is the Vice Chancellor for Facilities Planning and Construction for the Texas Tech University System. John Huffaker is the Vice Chancellor and General Counsel for the Texas Tech University System. Mr. Molina and Mr. Huffaker will take us through the real estate development process, from understanding the players and acquiring the land to planning and the realities of code compliance and municipal relationships. </p>\n\nIf you need an accommodation to participate in this event, please contact the event sponsor or the Texas Law Special Events Office at specialevents@law.utexas.edu no later than seven business days prior to the event.
X-ALT-DESC;FMTTYPE=text/html:<p>Michael Molina is the Vice Chancellor for Facilities Planning and Construction for the Texas Tech University System. John Huffaker is the Vice Chancellor and General Counsel for the Texas Tech University System. Mr. Molina and Mr. Huffaker will take us through the real estate development process, from understanding the players and acquiring the land to planning and the realities of code compliance and municipal relationships. </p><p>If you need an accommodation to participate in this event, please contact the event
                                          event sponsor or the Texas Law Special Events Office at <a href="mailto:specialevents@law.utexas.edu">specialevents@law.utexas.edu</a> no later than seven business days prior to the event.</p>
CATEGORIES:Panel Discussion / Speaker Series
LOCATION:TNH 2.139 - Wilson Classroom
URL:http://law.utexas.edu/calendar/2017/03/29/29685/
CLASS:PUBLIC
STATUS:CONFIRMED

END:VEVENT
END:VCALENDAR