BEGIN:VCALENDAR
VERSION:2.0
PRODID:-//UNIVERSITY OF TEXAS SCHOOL OF LAW//NONSGML Events Calendar v1.0//EN
X-WR-TIMEZONE:America/Chicago
BEGIN:VTIMEZONE
TZID:US/Central
X-LIC-LOCATION:America/Chicago
BEGIN:DAYLIGHT
TZOFFSETFROM:-0600
TZOFFSETTO:-0500
TZNAME:CDT
DTSTART:19700308T020000
RRULE:FREQ=YEARLY;BYMONTH=3;BYDAY=2SU
END:DAYLIGHT
BEGIN:STANDARD
TZOFFSETFROM:-0500
TZOFFSETTO:-0600
TZNAME:CST
DTSTART:19701101T020000
RRULE:FREQ=YEARLY;BYMONTH=11;BYDAY=1SU
END:STANDARD
END:VTIMEZONE
BEGIN:VEVENT
DTSTART;TZID=US/Central:20170407T150000
DTEND;VALUE=DATE-TIME;TZID=US/Central:20170407T173000

DTSTAMP:20260422T174200Z
CREATED:20170112T171900Z
LAST-MODIFIED:20170208T152400Z
UID:20170407T150000-28224@law.utexas.edu
SUMMARY:'The Good Lie' Film Screening
DESCRIPTION:<p>HRLS is hosting a film screening and discussion of ‘The Good Lie’ to coincide with Genocide Awareness Month in April.  The Good Lie is the story of 20,000 children who traveled thousands of miles on foot during the Second Sudanese Civil War to reach refugee camps in Kenya.  We will also have the opportunity to talk with a representative from the Enough Project which works to eliminate genocide and crimes against humanity.</p>
  <p>For more information about the film: <a href="http://www.enoughproject.org/blogs/guest-review-good-lie-0">http://www.enoughproject.org/blogs/guest-review-good-lie-0</a></p>\n\nIf you need an accommodation to participate in this event, please contact the event sponsor or the Texas Law Special Events Office at specialevents@law.utexas.edu no later than seven business days prior to the event.
X-ALT-DESC;FMTTYPE=text/html:<p>HRLS is hosting a film screening and discussion of ‘The Good Lie’ to coincide with Genocide Awareness Month in April.  The Good Lie is the story of 20,000 children who traveled thousands of miles on foot during the Second Sudanese Civil War to reach refugee camps in Kenya.  We will also have the opportunity to talk with a representative from the Enough Project which works to eliminate genocide and crimes against humanity.</p>
  <p>For more information about the film: <a href="http://www.enoughproject.org/blogs/guest-review-good-lie-0">http://www.enoughproject.org/blogs/guest-review-good-lie-0</a></p><p>If you need an accommodation to participate in this event, please contact the event
                                          event sponsor or the Texas Law Special Events Office at <a href="mailto:specialevents@law.utexas.edu">specialevents@law.utexas.edu</a> no later than seven business days prior to the event.</p>
CATEGORIES:Other
LOCATION:TNH 3.126 - Ratliff Classroom
URL:http://law.utexas.edu/calendar/2017/04/07/28224/
CLASS:PUBLIC
STATUS:CONFIRMED
COMMENT:HRLS@law.utexas.edu
END:VEVENT
END:VCALENDAR