BEGIN:VCALENDAR
VERSION:2.0
PRODID:-//UNIVERSITY OF TEXAS SCHOOL OF LAW//NONSGML Events Calendar v1.0//EN
X-WR-TIMEZONE:America/Chicago
BEGIN:VTIMEZONE
TZID:US/Central
X-LIC-LOCATION:America/Chicago
BEGIN:DAYLIGHT
TZOFFSETFROM:-0600
TZOFFSETTO:-0500
TZNAME:CDT
DTSTART:19700308T020000
RRULE:FREQ=YEARLY;BYMONTH=3;BYDAY=2SU
END:DAYLIGHT
BEGIN:STANDARD
TZOFFSETFROM:-0500
TZOFFSETTO:-0600
TZNAME:CST
DTSTART:19701101T020000
RRULE:FREQ=YEARLY;BYMONTH=11;BYDAY=1SU
END:STANDARD
END:VTIMEZONE
BEGIN:VEVENT
DTSTART;TZID=US/Central:20170408T090000
DTEND;VALUE=DATE-TIME;TZID=US/Central:20170408T120000

DTSTAMP:20260420T115600Z
CREATED:20160721T133200Z
LAST-MODIFIED:20170407T142400Z
UID:20170408T090000-23144@law.utexas.edu
SUMMARY:2017 Capital Punishment Conference
DESCRIPTION:<p>April 7 - 8, 2017 Capital Punishment Center Conference:  "Comparative Capital Punishment."</p>
  <p>This conference, “Comparative Capital Punishment” will address the many commonalities (and some significant differences) in the worldwide movement away from the death penalty that began in the late eighteenth century and that sharply accelerated in the last half of the twentieth century.  At the present moment, the industrialized West is an almost completely abolitionist zone (with the notable exception of the United States), while the death penalty is seeing a resurgence in some parts of the Middle East and Africa. This conference will look broadly and deeply at the practice of capital punishment around the world.  There are many common themes even in apparently disparate parts of the world, such as the kinds of restrictions and reforms that usually precede abolition, the moral, political, and legal strategies of reformers and abolitionists, the forces that promote retention, and the distinctive possibilities and pitfalls of various pathways to change (legislative action vs. judicial intervention vs. international or transnational institutions and influences).  The conference brings together experts on different regions and issues to evaluate the past, present, and future of the practice of capital punishment.</p>\n\nIf you need an accommodation to participate in this event, please contact the event sponsor or the Texas Law Special Events Office at specialevents@law.utexas.edu no later than seven business days prior to the event.
X-ALT-DESC;FMTTYPE=text/html:<p>April 7 - 8, 2017 Capital Punishment Center Conference:  "Comparative Capital Punishment."</p>
  <p>This conference, “Comparative Capital Punishment” will address the many commonalities (and some significant differences) in the worldwide movement away from the death penalty that began in the late eighteenth century and that sharply accelerated in the last half of the twentieth century.  At the present moment, the industrialized West is an almost completely abolitionist zone (with the notable exception of the United States), while the death penalty is seeing a resurgence in some parts of the Middle East and Africa. This conference will look broadly and deeply at the practice of capital punishment around the world.  There are many common themes even in apparently disparate parts of the world, such as the kinds of restrictions and reforms that usually precede abolition, the moral, political, and legal strategies of reformers and abolitionists, the forces that promote retention, and the distinctive possibilities and pitfalls of various pathways to change (legislative action vs. judicial intervention vs. international or transnational institutions and influences).  The conference brings together experts on different regions and issues to evaluate the past, present, and future of the practice of capital punishment.</p><p>If you need an accommodation to participate in this event, please contact the event
                                          event sponsor or the Texas Law Special Events Office at <a href="mailto:specialevents@law.utexas.edu">specialevents@law.utexas.edu</a> no later than seven business days prior to the event.</p>

LOCATION:CCJ 2.306 - Eidman Courtroom
URL:http://law.utexas.edu/calendar/2017/04/08/23144/
CLASS:PUBLIC
STATUS:CONFIRMED

END:VEVENT
END:VCALENDAR