BEGIN:VCALENDAR
VERSION:2.0
PRODID:-//UNIVERSITY OF TEXAS SCHOOL OF LAW//NONSGML Events Calendar v1.0//EN
X-WR-TIMEZONE:America/Chicago
BEGIN:VTIMEZONE
TZID:US/Central
X-LIC-LOCATION:America/Chicago
BEGIN:DAYLIGHT
TZOFFSETFROM:-0600
TZOFFSETTO:-0500
TZNAME:CDT
DTSTART:19700308T020000
RRULE:FREQ=YEARLY;BYMONTH=3;BYDAY=2SU
END:DAYLIGHT
BEGIN:STANDARD
TZOFFSETFROM:-0500
TZOFFSETTO:-0600
TZNAME:CST
DTSTART:19701101T020000
RRULE:FREQ=YEARLY;BYMONTH=11;BYDAY=1SU
END:STANDARD
END:VTIMEZONE
BEGIN:VEVENT
DTSTART;TZID=US/Central:20170410T120000
DTEND;VALUE=DATE-TIME;TZID=US/Central:20170410T134500

DTSTAMP:20260420T115600Z
CREATED:20170224T043600Z
LAST-MODIFIED:20170226T214900Z
UID:20170410T120000-29328@law.utexas.edu
SUMMARY:Abolish Private Prisons
DESCRIPTION:<p>"Private Prisons Are Unconstitutional"</p>
  <p>Please join the UT Law student chapter of the American Constitution Society as we host John Dacey, Arizona attorney and founder of Abolish Private Prisons, in conversation around his work abolishing private for-profit prisons.</p>\n\nIf you need an accommodation to participate in this event, please contact the event sponsor or the Texas Law Special Events Office at specialevents@law.utexas.edu no later than seven business days prior to the event.
X-ALT-DESC;FMTTYPE=text/html:<p>"Private Prisons Are Unconstitutional"</p>
  <p>Please join the UT Law student chapter of the American Constitution Society as we host John Dacey, Arizona attorney and founder of Abolish Private Prisons, in conversation around his work abolishing private for-profit prisons.</p><p>If you need an accommodation to participate in this event, please contact the event
                                          event sponsor or the Texas Law Special Events Office at <a href="mailto:specialevents@law.utexas.edu">specialevents@law.utexas.edu</a> no later than seven business days prior to the event.</p>
CATEGORIES:Panel Discussion / Speaker Series
LOCATION:TNH 2.137 - Gayle Classroom
URL:http://law.utexas.edu/calendar/2017/04/10/29328/
CLASS:PUBLIC
STATUS:CONFIRMED

END:VEVENT
END:VCALENDAR