BEGIN:VCALENDAR
VERSION:2.0
PRODID:-//UNIVERSITY OF TEXAS SCHOOL OF LAW//NONSGML Events Calendar v1.0//EN
X-WR-TIMEZONE:America/Chicago
BEGIN:VTIMEZONE
TZID:US/Central
X-LIC-LOCATION:America/Chicago
BEGIN:DAYLIGHT
TZOFFSETFROM:-0600
TZOFFSETTO:-0500
TZNAME:CDT
DTSTART:19700308T020000
RRULE:FREQ=YEARLY;BYMONTH=3;BYDAY=2SU
END:DAYLIGHT
BEGIN:STANDARD
TZOFFSETFROM:-0500
TZOFFSETTO:-0600
TZNAME:CST
DTSTART:19701101T020000
RRULE:FREQ=YEARLY;BYMONTH=11;BYDAY=1SU
END:STANDARD
END:VTIMEZONE
BEGIN:VEVENT
DTSTART;TZID=US/Central:20170410T124500
DTEND;VALUE=DATE-TIME;TZID=US/Central:20170410T140000

DTSTAMP:20260422T144900Z
CREATED:20170331T192900Z
LAST-MODIFIED:20170403T184900Z
UID:20170410T124500-30204@law.utexas.edu
SUMMARY:Democracy and Human Rights in Bangladesh
DESCRIPTION:<p>Khushi Kabir, a Rapoport Center Visiting Practitioner, will present a luncheon lecture entitled, "Where are we heading? The State of Democracy and Rights in Bangladesh." Khushi Kabir is a human rights activist based in Bangladesh. She has a long and storied career in advocating for landless, indigenous, and women’s rights throughout the country and is a voice for progressive politics in Bangladesh and South Asia more broadly. The core of her work has been the organization Nijera Kori (NK), a nonhierarchical, non-service providing civil society organization in Bangladesh which supports landless peasants in organizing for change. Nijera Kori, which translates from Bengali as “we do it ourselves,” empowers local groups of landless peasants to advocate for their own rights—to state institutions, to local governmental organizations, and to NGOs mounting development projects in their communities. Founded in the 1980s out of a frustration with the systematic neglect of landless-issues, NK has grown into a broad network throughout the country that extends to over 1100 villages and over 200,000 members. Ms. Kabir has been a vocal public advocate for a range of issues in Bangladesh including women’s rights, indigenous rights, conflict resolution in the Chittagong Hill Tracts, secularism and intellectual freedom, and more.She is an outspoken voice against the rise of militant Islam in Bangladesh and has been an active participant in Bangladesh’s pro-democracy movement. She is the coordinator in Bangladesh for 1 Billion Rising, a transnational solidarity movement working against the exploitation of women. Her work has gained her significant notoriety both in and beyond Bangladesh. Ms. Kabir was one of the 1000 women collectively nominated for the Nobel Peace Prize in 2005. </p>\n\nIf you need an accommodation to participate in this event, please contact the event sponsor or the Texas Law Special Events Office at specialevents@law.utexas.edu no later than seven business days prior to the event.
X-ALT-DESC;FMTTYPE=text/html:<p>Khushi Kabir, a Rapoport Center Visiting Practitioner, will present a luncheon lecture entitled, "Where are we heading? The State of Democracy and Rights in Bangladesh." Khushi Kabir is a human rights activist based in Bangladesh. She has a long and storied career in advocating for landless, indigenous, and women’s rights throughout the country and is a voice for progressive politics in Bangladesh and South Asia more broadly. The core of her work has been the organization Nijera Kori (NK), a nonhierarchical, non-service providing civil society organization in Bangladesh which supports landless peasants in organizing for change. Nijera Kori, which translates from Bengali as “we do it ourselves,” empowers local groups of landless peasants to advocate for their own rights—to state institutions, to local governmental organizations, and to NGOs mounting development projects in their communities. Founded in the 1980s out of a frustration with the systematic neglect of landless-issues, NK has grown into a broad network throughout the country that extends to over 1100 villages and over 200,000 members. Ms. Kabir has been a vocal public advocate for a range of issues in Bangladesh including women’s rights, indigenous rights, conflict resolution in the Chittagong Hill Tracts, secularism and intellectual freedom, and more.She is an outspoken voice against the rise of militant Islam in Bangladesh and has been an active participant in Bangladesh’s pro-democracy movement. She is the coordinator in Bangladesh for 1 Billion Rising, a transnational solidarity movement working against the exploitation of women. Her work has gained her significant notoriety both in and beyond Bangladesh. Ms. Kabir was one of the 1000 women collectively nominated for the Nobel Peace Prize in 2005. </p><p>If you need an accommodation to participate in this event, please contact the event
                                          event sponsor or the Texas Law Special Events Office at <a href="mailto:specialevents@law.utexas.edu">specialevents@law.utexas.edu</a> no later than seven business days prior to the event.</p>
CATEGORIES:Lunch
LOCATION:JON 5.208 - Susman Academic Center, Bryan and Michelle Goolsby Conference Suite
URL:http://law.utexas.edu/calendar/2017/04/10/30204/
CLASS:PUBLIC
STATUS:CONFIRMED
COMMENT:Contact Sarah Cline: scline@law.utexas.edu
END:VEVENT
END:VCALENDAR