BEGIN:VCALENDAR
VERSION:2.0
PRODID:-//UNIVERSITY OF TEXAS SCHOOL OF LAW//NONSGML Events Calendar v1.0//EN
X-WR-TIMEZONE:America/Chicago
BEGIN:VTIMEZONE
TZID:US/Central
X-LIC-LOCATION:America/Chicago
BEGIN:DAYLIGHT
TZOFFSETFROM:-0600
TZOFFSETTO:-0500
TZNAME:CDT
DTSTART:19700308T020000
RRULE:FREQ=YEARLY;BYMONTH=3;BYDAY=2SU
END:DAYLIGHT
BEGIN:STANDARD
TZOFFSETFROM:-0500
TZOFFSETTO:-0600
TZNAME:CST
DTSTART:19701101T020000
RRULE:FREQ=YEARLY;BYMONTH=11;BYDAY=1SU
END:STANDARD
END:VTIMEZONE
BEGIN:VEVENT
DTSTART;TZID=US/Central:20170410T180000
DTEND;VALUE=DATE-TIME;TZID=US/Central:20170410T200000

DTSTAMP:20260422T174200Z
CREATED:20170404T184500Z
LAST-MODIFIED:20170404T184500Z
UID:20170410T180000-30284@law.utexas.edu
SUMMARY:Film Screening of Sramik Awaaz
DESCRIPTION:<p>To commemorate the fourth anniversary of the collapse of the Rana Plaza building in Bangladesh, join Counter Balance: ATX, National Lawyers Guild - Texas Chapter, the Human Rights Law Society, and Law@theMargins.  We stand in solidarity with women of color both in our own country and overseas.</p>
  <p>With over 1,100 casualties, the easily preventable disaster was the worst single incident in terms of death toll in the history of the garment industry.  However, it is far from the only such instances in the global apparel industry, in which multinational manufacturers and retailers "race to the bottom", seeking contractors with the lowest costs and quickest turnaround, lading to the lowest wages, worst access to worker rights, and most dangerous factory conditions.</p>
  <p>Crowdfunded and subtitled in English, Sramik Awaaz: Worker Voices is the first film to fully explore the lives, work, and organizing efforts of Bangladesh's garment workers.</p>\n\nIf you need an accommodation to participate in this event, please contact the event sponsor or the Texas Law Special Events Office at specialevents@law.utexas.edu no later than seven business days prior to the event.
X-ALT-DESC;FMTTYPE=text/html:<p>To commemorate the fourth anniversary of the collapse of the Rana Plaza building in Bangladesh, join Counter Balance: ATX, National Lawyers Guild - Texas Chapter, the Human Rights Law Society, and Law@theMargins.  We stand in solidarity with women of color both in our own country and overseas.</p>
  <p>With over 1,100 casualties, the easily preventable disaster was the worst single incident in terms of death toll in the history of the garment industry.  However, it is far from the only such instances in the global apparel industry, in which multinational manufacturers and retailers "race to the bottom", seeking contractors with the lowest costs and quickest turnaround, lading to the lowest wages, worst access to worker rights, and most dangerous factory conditions.</p>
  <p>Crowdfunded and subtitled in English, Sramik Awaaz: Worker Voices is the first film to fully explore the lives, work, and organizing efforts of Bangladesh's garment workers.</p><p>If you need an accommodation to participate in this event, please contact the event
                                          event sponsor or the Texas Law Special Events Office at <a href="mailto:specialevents@law.utexas.edu">specialevents@law.utexas.edu</a> no later than seven business days prior to the event.</p>
CATEGORIES:Other
LOCATION:TNH 2.111 - Sheffield-Massey Room
URL:http://law.utexas.edu/calendar/2017/04/10/30284/
CLASS:PUBLIC
STATUS:CONFIRMED

END:VEVENT
END:VCALENDAR