BEGIN:VCALENDAR
VERSION:2.0
PRODID:-//UNIVERSITY OF TEXAS SCHOOL OF LAW//NONSGML Events Calendar v1.0//EN
X-WR-TIMEZONE:America/Chicago
BEGIN:VTIMEZONE
TZID:US/Central
X-LIC-LOCATION:America/Chicago
BEGIN:DAYLIGHT
TZOFFSETFROM:-0600
TZOFFSETTO:-0500
TZNAME:CDT
DTSTART:19700308T020000
RRULE:FREQ=YEARLY;BYMONTH=3;BYDAY=2SU
END:DAYLIGHT
BEGIN:STANDARD
TZOFFSETFROM:-0500
TZOFFSETTO:-0600
TZNAME:CST
DTSTART:19701101T020000
RRULE:FREQ=YEARLY;BYMONTH=11;BYDAY=1SU
END:STANDARD
END:VTIMEZONE
BEGIN:VEVENT
DTSTART;TZID=US/Central:20170411T114500
DTEND;VALUE=DATE-TIME;TZID=US/Central:20170411T124500

DTSTAMP:20260422T144900Z
CREATED:20161115T151300Z
LAST-MODIFIED:20170322T195800Z
UID:20170411T114500-27004@law.utexas.edu
SUMMARY:Public Interest Postgraduate Fellowships
DESCRIPTION:<p>Learn about some of the more popular project-based fellowships obtained by Texas Law graduates. You’ll learn about the application process and strategies for putting together a competitive fellowship application. Panelists include Anya Morgan, 3L and 2017 <a href="https://law.utexas.edu/publicinterest/scholarships/julius-glickman-fellowship-in-public-interest-law/">Julius Glickman Fellow in Public Interest Law</a> with the <a href="https://nwjustice.org/">Northwest Justice Project</a>; Briana Perez, 3L and 2017 <a href="https://law.utexas.edu/publicinterest/scholarships/the-g-rollie-white-trust-fellowship-in-public-interest-law/">Rollie White Trust Fellow in Public Interest Law</a> with the <a href="http://www.maldef.org/">Mexican American Legal Defense and Educational Fund (MALDEF)</a>; <a href="https://nwjustice.org/">Cristian Sanchez,</a> 3L and 2017 <a href="http://www.equaljusticeworks.org/post-grad/equal-justice-works-fellowships">Equal Justice Works Fellow</a> with <a href="https://www.raicestexas.org/">RAICES</a><a href="https://nwjustice.org/">;</a> and Meredith Parekh ’11, Staff Attorney with <a href="https://www.disabilityrightstx.org/">Disability Rights Texas </a>and former <a href="http://www.skaddenfellowships.org/">Skadden Foundation Fellow</a>. Moderated by Nicole Simmons, Director of Public Service Programs, Career Services Office. The <a href="https://www.opensocietyfoundations.org/grants/soros-justice-fellowships">Soros Justice Fellowship</a> will also be discussed.</p>
  <p>Lunch will be served. RSVP by Monday, April 10, on <a href="https://law-utexas-csm.symplicity.com/students/"> Symplicity</a> by selecting the "Events" tab.</p>\n\nIf you need an accommodation to participate in this event, please contact the event sponsor or the Texas Law Special Events Office at specialevents@law.utexas.edu no later than seven business days prior to the event.
X-ALT-DESC;FMTTYPE=text/html:<p>Learn about some of the more popular project-based fellowships obtained by Texas Law graduates. You’ll learn about the application process and strategies for putting together a competitive fellowship application. Panelists include Anya Morgan, 3L and 2017 <a href="https://law.utexas.edu/publicinterest/scholarships/julius-glickman-fellowship-in-public-interest-law/">Julius Glickman Fellow in Public Interest Law</a> with the <a href="https://nwjustice.org/">Northwest Justice Project</a>; Briana Perez, 3L and 2017 <a href="https://law.utexas.edu/publicinterest/scholarships/the-g-rollie-white-trust-fellowship-in-public-interest-law/">Rollie White Trust Fellow in Public Interest Law</a> with the <a href="http://www.maldef.org/">Mexican American Legal Defense and Educational Fund (MALDEF)</a>; <a href="https://nwjustice.org/">Cristian Sanchez,</a> 3L and 2017 <a href="http://www.equaljusticeworks.org/post-grad/equal-justice-works-fellowships">Equal Justice Works Fellow</a> with <a href="https://www.raicestexas.org/">RAICES</a><a href="https://nwjustice.org/">;</a> and Meredith Parekh ’11, Staff Attorney with <a href="https://www.disabilityrightstx.org/">Disability Rights Texas </a>and former <a href="http://www.skaddenfellowships.org/">Skadden Foundation Fellow</a>. Moderated by Nicole Simmons, Director of Public Service Programs, Career Services Office. The <a href="https://www.opensocietyfoundations.org/grants/soros-justice-fellowships">Soros Justice Fellowship</a> will also be discussed.</p>
  <p>Lunch will be served. RSVP by Monday, April 10, on <a href="https://law-utexas-csm.symplicity.com/students/"> Symplicity</a> by selecting the "Events" tab.</p><p>If you need an accommodation to participate in this event, please contact the event
                                          event sponsor or the Texas Law Special Events Office at <a href="mailto:specialevents@law.utexas.edu">specialevents@law.utexas.edu</a> no later than seven business days prior to the event.</p>
CATEGORIES:Workshop / Training Program
LOCATION:TNH 3.140 - Jeffers Courtroom
URL:http://law.utexas.edu/calendar/2017/04/11/27004/
CLASS:PUBLIC
STATUS:CONFIRMED
COMMENT:Please contact Nicole Simmons, Director of Public Service Programs, at 512-232-1160 or <a href="mailto:nsimmons@law.utexas.edu">nsimmons@law.utexas.edu</a>.
END:VEVENT
END:VCALENDAR