BEGIN:VCALENDAR
VERSION:2.0
PRODID:-//UNIVERSITY OF TEXAS SCHOOL OF LAW//NONSGML Events Calendar v1.0//EN
X-WR-TIMEZONE:America/Chicago
BEGIN:VTIMEZONE
TZID:US/Central
X-LIC-LOCATION:America/Chicago
BEGIN:DAYLIGHT
TZOFFSETFROM:-0600
TZOFFSETTO:-0500
TZNAME:CDT
DTSTART:19700308T020000
RRULE:FREQ=YEARLY;BYMONTH=3;BYDAY=2SU
END:DAYLIGHT
BEGIN:STANDARD
TZOFFSETFROM:-0500
TZOFFSETTO:-0600
TZNAME:CST
DTSTART:19701101T020000
RRULE:FREQ=YEARLY;BYMONTH=11;BYDAY=1SU
END:STANDARD
END:VTIMEZONE
BEGIN:VEVENT
DTSTART;TZID=US/Central:20170411T114500
DTEND;VALUE=DATE-TIME;TZID=US/Central:20170411T124500

DTSTAMP:20260420T132500Z
CREATED:20170102T160300Z
LAST-MODIFIED:20170407T142600Z
UID:20170411T114500-27924@law.utexas.edu
SUMMARY:OCI: What You Need to Know
DESCRIPTION:<p>Learn how to succeed in on-campus interviews in the fall. We will discuss how to prepare effective application materials; how to sell yourself in a 20-minute interview; why networking is important and how to do it; professional etiquette tips for receptions, meals, and correspondence; and how to respond to offers. Panelists include <a href="https://www.wsgr.com/WSGR/DBIndex.aspx?SectionName=attorneys/BIOS/5862.htm">Joey Alcorta, '00</a>, Partner, Wilson Sonsini Goodrich &amp; Rosati (Austin, TX); <a href="https://www.reedsmith.com/marlen_whitley/">Marlen Whitley, '01</a>, Partner, Reed Smith (Austin, TX); <a href="https://www.perkinscoie.com/en/professionals/hayden-schottlaender.html">Hayden Schottlaender, ’15</a>, Associate, Perkins Coie LLP (Dallas, TX);' and <a href="https://www.akingump.com/en/lawyers-advisors/lauren-e-york.html">Lauren York, ’15</a>, Associate, Akin Gump Strauss Hauer &amp; Feld (Dallas, TX). </p>
  <p>Lunch served. RSVP by Monday, April 10, on <a href="https://law-utexas-csm.symplicity.com/students/">Symplicity</a> by selecting the “Events” tab.</p>\n\nIf you need an accommodation to participate in this event, please contact the event sponsor or the Texas Law Special Events Office at specialevents@law.utexas.edu no later than seven business days prior to the event.
X-ALT-DESC;FMTTYPE=text/html:<p>Learn how to succeed in on-campus interviews in the fall. We will discuss how to prepare effective application materials; how to sell yourself in a 20-minute interview; why networking is important and how to do it; professional etiquette tips for receptions, meals, and correspondence; and how to respond to offers. Panelists include <a href="https://www.wsgr.com/WSGR/DBIndex.aspx?SectionName=attorneys/BIOS/5862.htm">Joey Alcorta, '00</a>, Partner, Wilson Sonsini Goodrich &amp; Rosati (Austin, TX); <a href="https://www.reedsmith.com/marlen_whitley/">Marlen Whitley, '01</a>, Partner, Reed Smith (Austin, TX); <a href="https://www.perkinscoie.com/en/professionals/hayden-schottlaender.html">Hayden Schottlaender, ’15</a>, Associate, Perkins Coie LLP (Dallas, TX);' and <a href="https://www.akingump.com/en/lawyers-advisors/lauren-e-york.html">Lauren York, ’15</a>, Associate, Akin Gump Strauss Hauer &amp; Feld (Dallas, TX). </p>
  <p>Lunch served. RSVP by Monday, April 10, on <a href="https://law-utexas-csm.symplicity.com/students/">Symplicity</a> by selecting the “Events” tab.</p><p>If you need an accommodation to participate in this event, please contact the event
                                          event sponsor or the Texas Law Special Events Office at <a href="mailto:specialevents@law.utexas.edu">specialevents@law.utexas.edu</a> no later than seven business days prior to the event.</p>
CATEGORIES:Workshop / Training Program
LOCATION:TNH 2.140 - Wright Classroom
URL:http://law.utexas.edu/calendar/2017/04/11/27924/
CLASS:PUBLIC
STATUS:CONFIRMED
COMMENT:Please contact Denyse Demel, Government Career Counselor, at 512-232-1162 or <a href="mailto:ddemel@law.utexas.edu">ddemel@law.utexas.edu</a>.
END:VEVENT
END:VCALENDAR