BEGIN:VCALENDAR
VERSION:2.0
PRODID:-//UNIVERSITY OF TEXAS SCHOOL OF LAW//NONSGML Events Calendar v1.0//EN
X-WR-TIMEZONE:America/Chicago
BEGIN:VTIMEZONE
TZID:US/Central
X-LIC-LOCATION:America/Chicago
BEGIN:DAYLIGHT
TZOFFSETFROM:-0600
TZOFFSETTO:-0500
TZNAME:CDT
DTSTART:19700308T020000
RRULE:FREQ=YEARLY;BYMONTH=3;BYDAY=2SU
END:DAYLIGHT
BEGIN:STANDARD
TZOFFSETFROM:-0500
TZOFFSETTO:-0600
TZNAME:CST
DTSTART:19701101T020000
RRULE:FREQ=YEARLY;BYMONTH=11;BYDAY=1SU
END:STANDARD
END:VTIMEZONE
BEGIN:VEVENT
DTSTART;TZID=US/Central:20170411T113000
DTEND;VALUE=DATE-TIME;TZID=US/Central:20170411T130000

DTSTAMP:20260422T190600Z
CREATED:20170130T162000Z
LAST-MODIFIED:20170328T191600Z
UID:20170411T113000-28604@law.utexas.edu
SUMMARY:Drawing Board Lunch: O.Bracha &amp; J.Golden
DESCRIPTION:<p>Drawing Board Lunch: Oren Bracha and John Golden will present a project entitled “Redundancy Concerns in Copyright Law” (pending title)</p>\n\nIf you need an accommodation to participate in this event, please contact the event sponsor or the Texas Law Special Events Office at specialevents@law.utexas.edu no later than seven business days prior to the event. Speakers: Oren Bracha, Professor, University of Texas, John M. Golden, Professor, University of Texas
X-ALT-DESC;FMTTYPE=text/html:<p>Drawing Board Lunch: Oren Bracha and John Golden will present a project entitled “Redundancy Concerns in Copyright Law” (pending title)</p><p>If you need an accommodation to participate in this event, please contact the event
                                          event sponsor or the Texas Law Special Events Office at <a href="mailto:specialevents@law.utexas.edu">specialevents@law.utexas.edu</a> no later than seven business days prior to the event.</p> Speakers: Oren Bracha, Professor, University of Texas, John M. Golden, Professor, University of Texas

LOCATION:TNH 2.111 - Sheffield-Massey Room
URL:http://law.utexas.edu/calendar/2017/04/11/28604/
CLASS:PUBLIC
STATUS:CONFIRMED

END:VEVENT
END:VCALENDAR