BEGIN:VCALENDAR
VERSION:2.0
PRODID:-//UNIVERSITY OF TEXAS SCHOOL OF LAW//NONSGML Events Calendar v1.0//EN
X-WR-TIMEZONE:America/Chicago
BEGIN:VTIMEZONE
TZID:US/Central
X-LIC-LOCATION:America/Chicago
BEGIN:DAYLIGHT
TZOFFSETFROM:-0600
TZOFFSETTO:-0500
TZNAME:CDT
DTSTART:19700308T020000
RRULE:FREQ=YEARLY;BYMONTH=3;BYDAY=2SU
END:DAYLIGHT
BEGIN:STANDARD
TZOFFSETFROM:-0500
TZOFFSETTO:-0600
TZNAME:CST
DTSTART:19701101T020000
RRULE:FREQ=YEARLY;BYMONTH=11;BYDAY=1SU
END:STANDARD
END:VTIMEZONE
BEGIN:VEVENT
DTSTART;TZID=US/Central:20170411T110000
DTEND;VALUE=DATE-TIME;TZID=US/Central:20170411T130000

DTSTAMP:20260422T174300Z
CREATED:20170329T193800Z
LAST-MODIFIED:20170410T162100Z
UID:20170411T110000-30124@law.utexas.edu
SUMMARY:Pro Bono Program - Report your hours!
DESCRIPTION:<p>Pizza and drinks will be available to students who log their pro bono hours at the table, or who have already logged their hours. Plus, current pro bono scholars will be available to answer questions about the pro bono scholarship program.</p>\n\nIf you need an accommodation to participate in this event, please contact the event sponsor or the Texas Law Special Events Office at specialevents@law.utexas.edu no later than seven business days prior to the event.
X-ALT-DESC;FMTTYPE=text/html:<p>Pizza and drinks will be available to students who log their pro bono hours at the table, or who have already logged their hours. Plus, current pro bono scholars will be available to answer questions about the pro bono scholarship program.</p><p>If you need an accommodation to participate in this event, please contact the event
                                          event sponsor or the Texas Law Special Events Office at <a href="mailto:specialevents@law.utexas.edu">specialevents@law.utexas.edu</a> no later than seven business days prior to the event.</p>

LOCATION:TNH 2.100 - Susman Godfrey Atrium
URL:http://law.utexas.edu/calendar/2017/04/11/30124/
CLASS:PUBLIC
STATUS:CONFIRMED

END:VEVENT
END:VCALENDAR