BEGIN:VCALENDAR
VERSION:2.0
PRODID:-//UNIVERSITY OF TEXAS SCHOOL OF LAW//NONSGML Events Calendar v1.0//EN
X-WR-TIMEZONE:America/Chicago
BEGIN:VTIMEZONE
TZID:US/Central
X-LIC-LOCATION:America/Chicago
BEGIN:DAYLIGHT
TZOFFSETFROM:-0600
TZOFFSETTO:-0500
TZNAME:CDT
DTSTART:19700308T020000
RRULE:FREQ=YEARLY;BYMONTH=3;BYDAY=2SU
END:DAYLIGHT
BEGIN:STANDARD
TZOFFSETFROM:-0500
TZOFFSETTO:-0600
TZNAME:CST
DTSTART:19701101T020000
RRULE:FREQ=YEARLY;BYMONTH=11;BYDAY=1SU
END:STANDARD
END:VTIMEZONE
BEGIN:VEVENT
DTSTART;TZID=US/Central:20170412T163000
DTEND;VALUE=DATE-TIME;TZID=US/Central:20170412T183000

DTSTAMP:20260422T144900Z
CREATED:20170220T214100Z
LAST-MODIFIED:20170220T214500Z
UID:20170412T163000-29106@law.utexas.edu
SUMMARY:Heman Sweatt Lecture Series
DESCRIPTION:<p>Heman M. Sweatt applied for admission to The University of Texas Law School in 1946, but was denied admission on the basis of race. Mr. Sweatt, with the help and assistance of the NAACP, brought legal action against the university. In the landmark case, Sweatt v. Painter, The United States Supreme Court ruled that separate law school facilities could not provide a legal education equal to that available at The University of Texas Law School, one of the nation’s ranking law schools.</p>\n\nIf you need an accommodation to participate in this event, please contact the event sponsor or the Texas Law Special Events Office at specialevents@law.utexas.edu no later than seven business days prior to the event.
X-ALT-DESC;FMTTYPE=text/html:<p>Heman M. Sweatt applied for admission to The University of Texas Law School in 1946, but was denied admission on the basis of race. Mr. Sweatt, with the help and assistance of the NAACP, brought legal action against the university. In the landmark case, Sweatt v. Painter, The United States Supreme Court ruled that separate law school facilities could not provide a legal education equal to that available at The University of Texas Law School, one of the nation’s ranking law schools.</p><p>If you need an accommodation to participate in this event, please contact the event
                                          event sponsor or the Texas Law Special Events Office at <a href="mailto:specialevents@law.utexas.edu">specialevents@law.utexas.edu</a> no later than seven business days prior to the event.</p>
CATEGORIES:Other
LOCATION:TNH 2.114 - Francis Auditorium
URL:http://law.utexas.edu/calendar/2017/04/12/29106/
CLASS:PUBLIC
STATUS:CONFIRMED
COMMENT:Contact DDCE Communications Director, Leslie Blair, leslieblair@austin.utexas.edu
END:VEVENT
END:VCALENDAR