BEGIN:VCALENDAR
VERSION:2.0
PRODID:-//UNIVERSITY OF TEXAS SCHOOL OF LAW//NONSGML Events Calendar v1.0//EN
X-WR-TIMEZONE:America/Chicago
BEGIN:VTIMEZONE
TZID:US/Central
X-LIC-LOCATION:America/Chicago
BEGIN:DAYLIGHT
TZOFFSETFROM:-0600
TZOFFSETTO:-0500
TZNAME:CDT
DTSTART:19700308T020000
RRULE:FREQ=YEARLY;BYMONTH=3;BYDAY=2SU
END:DAYLIGHT
BEGIN:STANDARD
TZOFFSETFROM:-0500
TZOFFSETTO:-0600
TZNAME:CST
DTSTART:19701101T020000
RRULE:FREQ=YEARLY;BYMONTH=11;BYDAY=1SU
END:STANDARD
END:VTIMEZONE
BEGIN:VEVENT
DTSTART;TZID=US/Central:20170413T114500
DTEND;VALUE=DATE-TIME;TZID=US/Central:20170413T130000

DTSTAMP:20260420T143600Z
CREATED:20161115T204600Z
LAST-MODIFIED:20161115T204600Z
UID:20170413T114500-26990@law.utexas.edu
SUMMARY:CANCELED: PS Prepared for Practice Series
DESCRIPTION:<p>This workshop is designed for 3Ls entering public interest law, government service, or any other field that qualifies for federal Public Service Loan Forgiveness. Explore federal loan repayment and loan forgiveness programs and the Texas Law Loan Repayment Assistance Program (LRAP) in greater depth in a small group setting. </p>\n\nIf you need an accommodation to participate in this event, please contact the event sponsor or the Texas Law Special Events Office at specialevents@law.utexas.edu no later than seven business days prior to the event.
X-ALT-DESC;FMTTYPE=text/html:<p>This workshop is designed for 3Ls entering public interest law, government service, or any other field that qualifies for federal Public Service Loan Forgiveness. Explore federal loan repayment and loan forgiveness programs and the Texas Law Loan Repayment Assistance Program (LRAP) in greater depth in a small group setting. </p><p>If you need an accommodation to participate in this event, please contact the event
                                          event sponsor or the Texas Law Special Events Office at <a href="mailto:specialevents@law.utexas.edu">specialevents@law.utexas.edu</a> no later than seven business days prior to the event.</p>
CATEGORIES:Workshop / Training Program
LOCATION:TNH 3.127 - Roberts Classroom
URL:http://law.utexas.edu/calendar/2017/04/13/26990/
CLASS:PUBLIC
STATUS:CANCELLED
COMMENT:Please contact Nicole Simmons, Director of Public Service Programs, at 512-232-1160 or <a href="mailto:nsimmons@law.utexas.edu">nsimmons@law.utexas.edu</a>.
END:VEVENT
END:VCALENDAR