BEGIN:VCALENDAR
VERSION:2.0
PRODID:-//UNIVERSITY OF TEXAS SCHOOL OF LAW//NONSGML Events Calendar v1.0//EN
X-WR-TIMEZONE:America/Chicago
BEGIN:VTIMEZONE
TZID:US/Central
X-LIC-LOCATION:America/Chicago
BEGIN:DAYLIGHT
TZOFFSETFROM:-0600
TZOFFSETTO:-0500
TZNAME:CDT
DTSTART:19700308T020000
RRULE:FREQ=YEARLY;BYMONTH=3;BYDAY=2SU
END:DAYLIGHT
BEGIN:STANDARD
TZOFFSETFROM:-0500
TZOFFSETTO:-0600
TZNAME:CST
DTSTART:19701101T020000
RRULE:FREQ=YEARLY;BYMONTH=11;BYDAY=1SU
END:STANDARD
END:VTIMEZONE
BEGIN:VEVENT
DTSTART;TZID=US/Central:20170418T114500
DTEND;VALUE=DATE-TIME;TZID=US/Central:20170418T130000

DTSTAMP:20260422T174300Z
CREATED:20161122T211900Z
LAST-MODIFIED:20170411T143500Z
UID:20170418T114500-27288@law.utexas.edu
SUMMARY:Board of Advocates Presents: Careers in
DESCRIPTION:<p>Careers in Criminal Law</p>
  <p>Do you want to work in criminal law? Are you unsure what you want to do, but have some interest in criminal law? If so, come to the Careers in Criminal Law Panel on 4/18 for one of the few events specifically tailored to students interested in criminal law.</p>
  <p>Seasoned prosecutors and defense attorneys will share their insights on their careers in criminal law and what their path into a criminal law career looked like. Additionally, panelists will offer practical advice tailored to students interested in criminal work on how best to use law school and its resources, how to maximize a summer clerkship in criminal law, and possibly leverage a clerkship into a full-time position.</p>
  <p>Lunch will be served. RSVP on Symplicity.</p>
  <p>Sponsored by Board of Advocates, AJCL, and CSO.</p>\n\nIf you need an accommodation to participate in this event, please contact the event sponsor or the Texas Law Special Events Office at specialevents@law.utexas.edu no later than seven business days prior to the event.
X-ALT-DESC;FMTTYPE=text/html:<p>Careers in Criminal Law</p>
  <p>Do you want to work in criminal law? Are you unsure what you want to do, but have some interest in criminal law? If so, come to the Careers in Criminal Law Panel on 4/18 for one of the few events specifically tailored to students interested in criminal law.</p>
  <p>Seasoned prosecutors and defense attorneys will share their insights on their careers in criminal law and what their path into a criminal law career looked like. Additionally, panelists will offer practical advice tailored to students interested in criminal work on how best to use law school and its resources, how to maximize a summer clerkship in criminal law, and possibly leverage a clerkship into a full-time position.</p>
  <p>Lunch will be served. RSVP on Symplicity.</p>
  <p>Sponsored by Board of Advocates, AJCL, and CSO.</p><p>If you need an accommodation to participate in this event, please contact the event
                                          event sponsor or the Texas Law Special Events Office at <a href="mailto:specialevents@law.utexas.edu">specialevents@law.utexas.edu</a> no later than seven business days prior to the event.</p>
CATEGORIES:Panel Discussion / Speaker Series
LOCATION:TNH 2.140 - Wright Classroom
URL:http://law.utexas.edu/calendar/2017/04/18/27288/
CLASS:PUBLIC
STATUS:CONFIRMED
COMMENT:boa.utlaw@gmail.com
END:VEVENT
END:VCALENDAR