BEGIN:VCALENDAR
VERSION:2.0
PRODID:-//UNIVERSITY OF TEXAS SCHOOL OF LAW//NONSGML Events Calendar v1.0//EN
X-WR-TIMEZONE:America/Chicago
BEGIN:VTIMEZONE
TZID:US/Central
X-LIC-LOCATION:America/Chicago
BEGIN:DAYLIGHT
TZOFFSETFROM:-0600
TZOFFSETTO:-0500
TZNAME:CDT
DTSTART:19700308T020000
RRULE:FREQ=YEARLY;BYMONTH=3;BYDAY=2SU
END:DAYLIGHT
BEGIN:STANDARD
TZOFFSETFROM:-0500
TZOFFSETTO:-0600
TZNAME:CST
DTSTART:19701101T020000
RRULE:FREQ=YEARLY;BYMONTH=11;BYDAY=1SU
END:STANDARD
END:VTIMEZONE
BEGIN:VEVENT
DTSTART;TZID=US/Central:20170418T113000
DTEND;VALUE=DATE-TIME;TZID=US/Central:20170418T130000

DTSTAMP:20260420T114800Z
CREATED:20170323T165500Z
LAST-MODIFIED:20170417T180200Z
UID:20170418T113000-29924@law.utexas.edu
SUMMARY:Arab Constitutionalism
DESCRIPTION:<p>Zaid Al-Ali is the Senior Adviser on Constitution-Building for the Arab Region at International IDEA and an independent scholar.  In his work, Al-Ali focuses on constitutional developments throughout the Arab region, with a particular focus on Iraq and the wave of reforms that took place in Morocco, Tunisia, Libya, Egypt, Jordan and Yemen following the start of popular uprisings in December 2010.  Al-Ali has published extensively on constitutional reform in the Arab region, including on process design issues and the impact of external influence.  He is the author of The Struggle for Iraq’s Future: How Corruption, Incompetence and Sectarianism Have Undermined Democracy (Yale University Press 2014).  Prior to joining International IDEA, Zaid worked as a legal adviser to the United Nations in Iraq, focusing on constitutional, parliamentary and judicial reform.  He also practiced international commercial arbitration law for 12 years, representing clients in investment and oil and gas disputes mainly as an attorney with Shearman &amp; Sterling LLC in Paris and also as a sole practitioner.  He holds an LL.M. from Harvard Law School, a Maitrise en Droit from the University of Paris I (Panthéon-Sorbonne) and an LL.B. from King’s College London.  He was a Law and Public Affairs Fellow and Visiting Lecturer at Princeton University in 2015-2016.  He is a founder member of the Arab Association of Constitutional Law and is a member of its executive committee. </p>\n\nIf you need an accommodation to participate in this event, please contact the event sponsor or the Texas Law Special Events Office at specialevents@law.utexas.edu no later than seven business days prior to the event. Speaker: Zaid Al-Ali, P, Princeton
X-ALT-DESC;FMTTYPE=text/html:<p>Zaid Al-Ali is the Senior Adviser on Constitution-Building for the Arab Region at International IDEA and an independent scholar.  In his work, Al-Ali focuses on constitutional developments throughout the Arab region, with a particular focus on Iraq and the wave of reforms that took place in Morocco, Tunisia, Libya, Egypt, Jordan and Yemen following the start of popular uprisings in December 2010.  Al-Ali has published extensively on constitutional reform in the Arab region, including on process design issues and the impact of external influence.  He is the author of The Struggle for Iraq’s Future: How Corruption, Incompetence and Sectarianism Have Undermined Democracy (Yale University Press 2014).  Prior to joining International IDEA, Zaid worked as a legal adviser to the United Nations in Iraq, focusing on constitutional, parliamentary and judicial reform.  He also practiced international commercial arbitration law for 12 years, representing clients in investment and oil and gas disputes mainly as an attorney with Shearman &amp; Sterling LLC in Paris and also as a sole practitioner.  He holds an LL.M. from Harvard Law School, a Maitrise en Droit from the University of Paris I (Panthéon-Sorbonne) and an LL.B. from King’s College London.  He was a Law and Public Affairs Fellow and Visiting Lecturer at Princeton University in 2015-2016.  He is a founder member of the Arab Association of Constitutional Law and is a member of its executive committee. </p><p>If you need an accommodation to participate in this event, please contact the event
                                          event sponsor or the Texas Law Special Events Office at <a href="mailto:specialevents@law.utexas.edu">specialevents@law.utexas.edu</a> no later than seven business days prior to the event.</p> Speaker: Zaid Al-Ali, P, Princeton

LOCATION:TNH 2.111 - Sheffield-Massey Room
URL:http://law.utexas.edu/calendar/2017/04/18/29924/
CLASS:PUBLIC
STATUS:CONFIRMED

END:VEVENT
END:VCALENDAR